BEGIN:VCALENDAR
VERSION:2.0
PRODID:-//ChamberMaster//Event Calendar 2.0//EN
METHOD:PUBLISH
X-PUBLISHED-TTL:P3D
REFRESH-INTERVAL:P3D
CALSCALE:GREGORIAN
BEGIN:VEVENT
DTSTART:20240415T230000Z
DTEND:20240416T000000Z
X-MICROSOFT-CDO-ALLDAYEVENT:FALSE
SUMMARY:chatarunga clinic: frame up your vinyasa sequence
DESCRIPTION:This workshop is for students who wish to gain a better understanding of this fundamental yoga posture and movement. expect fine-tuning your plank\, chaturanga + down dog\, drills\, assists + boundaries created with props. we'll practice\, practice some more\, review how to modify + why we modify so you can build strength with each chaturanga in class.
X-ALT-DESC;FMTTYPE=text/html:<span style="color:rgb(0\, 0\, 0)\; font-family:arial">This&nbsp\;workshop&nbsp\;is for students who wish to gain a better understanding of this fundamental yoga posture and movement. expect fine-tuning your plank\, chaturanga + down dog\, drills\, assists + boundaries created with props. we&#39\;ll practice\, practice some more\, review how to modify + why we modify so you can build strength with each chaturanga in class. </span>
LOCATION:The Daily Sweat 65 Portand Rd Kennebunk\, ME
UID:e.1923.24490
SEQUENCE:3
DTSTAMP:20260421T163951Z
URL:https://chamber.gokennebunks.com/events/details/chatarunga-clinic-frame-up-your-vinyasa-sequence-24490
END:VEVENT

END:VCALENDAR
