BEGIN:VCALENDAR
VERSION:2.0
PRODID:-//ChamberMaster//Event Calendar 2.0//EN
METHOD:PUBLISH
X-PUBLISHED-TTL:P3D
REFRESH-INTERVAL:P3D
CALSCALE:GREGORIAN
BEGIN:VEVENT
DTSTART:20190713T123000Z
DTEND:20190713T133000Z
X-MICROSOFT-CDO-ALLDAYEVENT:FALSE
SUMMARY:Charity Workout to Benefit the Maine Cancer Foundation
DESCRIPTION:Join us on Saturday July 13th at Spurling Fitness for an all-levels circuit style workout to benefit Maine Cancer Foundation. \n\n\n\nThis event is open to the public\, all ages\, and we simply ask that you bring any donation amount you can (even $1) to go to MCF. \n\n\n\nWe all have someone\, maybe even ourselves\, in our life who has been impacted by cancer. Please help us in our goal of raising $1000 for Maine Cancer Foundation.
X-ALT-DESC;FMTTYPE=text/html:<span style="color:rgb(29\, 33\, 41)\; font-family:helvetica neue\,helvetica\,arial\,sans-serif\; font-size:14px">Join us on Saturday July 13th at Spurling Fitness for an all-levels circuit style workout to benefit Maine Cancer Foundation. </span><br />\n<br />\n<span style="color:rgb(29\, 33\, 41)\; font-family:helvetica neue\,helvetica\,arial\,sans-serif\; font-size:14px">This event is open to the public\, all ages\, and we simply ask that you bring any donation amount you can (even $1) to go to MCF. </span><br />\n<br />\n<span style="color:rgb(29\, 33\, 41)\; font-family:helvetica neue\,helvetica\,arial\,sans-serif\; font-size:14px">We all have someone\, maybe even ourselves\, in our life who has been impacted by cancer. Please help us in our goal of raising $1000 for Maine Cancer Foundation. </span>
LOCATION:Spurling Fitness 1 Alewive Park Road Kennebunk\, ME 04043
UID:e.1923.13380
SEQUENCE:3
DTSTAMP:20260424T183637Z
URL:https://chamber.gokennebunks.com/events/details/charity-workout-to-benefit-the-maine-cancer-foundation-13380
END:VEVENT

END:VCALENDAR
