BEGIN:VCALENDAR
VERSION:2.0
PRODID:-//ChamberMaster//Event Calendar 2.0//EN
METHOD:PUBLISH
X-PUBLISHED-TTL:P3D
REFRESH-INTERVAL:P3D
CALSCALE:GREGORIAN
BEGIN:VEVENT
DTSTART:20240624T123000Z
DTEND:20240624T180000Z
X-MICROSOFT-CDO-ALLDAYEVENT:FALSE
SUMMARY:Chamber of Commerce 33rd Annual Golf Tournament
DESCRIPTION:Join us for a day of golf and fun! The Chamber's 33rd Annual Golf Tournament will be held at Old Marsh Country Club on Monday\, June 24!\n\n \n\nIt'll be a fun day featuring friendly competition\, lunch\, contests and giveaways. There will be prizes for first and second place teams (net and gross)\, closest to the pin and longest drive (men and women). \n\n\n\nCheck-in begins at 8:30 AM with a scramble-style start at 9:00 AM. Check-in tables and all play will be outside. \n\n \n\n\nPlayers may register as an individual or register your team (different sponsorship packages available). Please indicate all player names and individual handicaps in your registration.\n\n\n\nWe have the following packages available (see graphic for more details):\n\n\n	Eagle Sponsor Package - $1\,000\n	Birdie Sponsor Package - $750\n	Par Sponsor Package - $675\n	Bogey Sponsor Package - $595\n	Individual Player - $150\n	Other sponsorship opportunities - Cart Sponsor ($525)\, Meal Sponsor ($525) Putting Contest ($525)\, Rough Sponsor ($300)\, Tee Sponsor ($150)\n\n\nA portion of the proceeds will benefit the 3 Towns\, 1 Community Fund.\n\n\n\nPlease contact Jamie Barth at events@gokennebunks.com with any questions. We look forward to seeing you there!
X-ALT-DESC;FMTTYPE=text/html:<div class="gmail_default" style="color: rgb(34\, 34\, 34)\; font-size: small\; font-family: &quot\;trebuchet ms&quot\;\, sans-serif\;"><span style="font-size:20px\;"><strong><span style="font-family:arial\;">Join us for a day of golf and fun! The Chamber&#39\;s 33rd Annual Golf Tournament will be held at&nbsp\;Old Marsh Country Club on Monday\, June 24!</span></strong></span><br />\n&nbsp\;</div>\n\n<div class="gmail_default" style="color: rgb(34\, 34\, 34)\; font-size: small\; font-family: &quot\;trebuchet ms&quot\;\, sans-serif\;"><span style="font-size:18px\;"><span style="font-family:arial\;">It&#39\;ll be a fun day featuring friendly competition\, lunch\, contests and giveaways. There will be prizes for first and second place teams (net and gross)\, closest to the pin and longest drive (men and women).&nbsp\;<br />\n<br />\nCheck-in begins at 8:30 AM with a scramble-style start at 9:00 AM.&nbsp\;</span></span><span style="color: rgb(34\, 34\, 34)\; font-family: arial\; font-size: 18px\;">Check-in tables and all play will be outside.&nbsp\;</span><br />\n&nbsp\;</div>\n\n<div class="gmail_default" style="color: rgb(34\, 34\, 34)\; font-size: small\; font-family: &quot\;trebuchet ms&quot\;\, sans-serif\;">\n<div style="margin: 0.5em 0px 0px\; font-family: &quot\;Segoe UI Historic&quot\;\, &quot\;Segoe UI&quot\;\, Helvetica\, Arial\, sans-serif\; color: rgb(5\, 5\, 5)\; font-size: 15px\;"><span style="font-size:18px\;"><span style="font-family:arial\;">Players may register as an individual or register your team (different sponsorship packages available). Please indicate all player names and individual handicaps in your registration.<br />\n<br />\nWe have the following packages available (see graphic for more details):</span></span></div>\n\n<ul>\n	<li style="margin: 0.5em 0px 0px\; font-family: &quot\;Segoe UI Historic&quot\;\, &quot\;Segoe UI&quot\;\, Helvetica\, Arial\, sans-serif\; color: rgb(5\, 5\, 5)\; font-size: 15px\;"><span style="font-size:16px\;">Eagle Sponsor Package - $1\,000</span></li>\n	<li style="margin: 0.5em 0px 0px\; font-family: &quot\;Segoe UI Historic&quot\;\, &quot\;Segoe UI&quot\;\, Helvetica\, Arial\, sans-serif\; color: rgb(5\, 5\, 5)\; font-size: 15px\;"><span style="font-size:16px\;">Birdie Sponsor Package - $750</span></li>\n	<li style="margin: 0.5em 0px 0px\; font-family: &quot\;Segoe UI Historic&quot\;\, &quot\;Segoe UI&quot\;\, Helvetica\, Arial\, sans-serif\; color: rgb(5\, 5\, 5)\; font-size: 15px\;"><span style="font-size:16px\;">Par Sponsor Package - $675</span></li>\n	<li style="margin: 0.5em 0px 0px\; font-family: &quot\;Segoe UI Historic&quot\;\, &quot\;Segoe UI&quot\;\, Helvetica\, Arial\, sans-serif\; color: rgb(5\, 5\, 5)\; font-size: 15px\;"><span style="font-size:16px\;">Bogey Sponsor Package - $595</span></li>\n	<li style="margin: 0.5em 0px 0px\; font-family: &quot\;Segoe UI Historic&quot\;\, &quot\;Segoe UI&quot\;\, Helvetica\, Arial\, sans-serif\; color: rgb(5\, 5\, 5)\; font-size: 15px\;"><span style="font-size:16px\;">Individual Player - $150</span></li>\n	<li style="margin: 0.5em 0px 0px\; font-family: &quot\;Segoe UI Historic&quot\;\, &quot\;Segoe UI&quot\;\, Helvetica\, Arial\, sans-serif\; color: rgb(5\, 5\, 5)\; font-size: 15px\;"><span style="font-size:16px\;">Other sponsorship opportunities -&nbsp\;Cart Sponsor ($525)\, Meal Sponsor ($525) Putting Contest ($525)\, Rough Sponsor ($300)\, Tee Sponsor ($150)</span></li>\n</ul>\n\n<div style="margin: 0.5em 0px 0px\; font-family: &quot\;Segoe UI Historic&quot\;\, &quot\;Segoe UI&quot\;\, Helvetica\, Arial\, sans-serif\; color: rgb(5\, 5\, 5)\; font-size: 15px\;"><span style="font-size:18px\;"><span style="font-family:arial\;">A portion of the proceeds will benefit the 3 Towns\, 1 Community Fund.</span></span></div>\n\n<div style="margin: 0.5em 0px 0px\; font-family: &quot\;Segoe UI Historic&quot\;\, &quot\;Segoe UI&quot\;\, Helvetica\, Arial\, sans-serif\; color: rgb(5\, 5\, 5)\; font-size: 15px\;"><br />\n<span style="font-size:18px\;"><span style="font-family:arial\;">Please contact Jamie Barth at events@gokennebunks.com with any questions. We look forward to seeing you there!&nbsp\;</span></span></div>\n</div>\n
LOCATION:Old Marsh Country Club 445 Clubhouse Road\, Wells (207) 251-4653
UID:e.1923.24431
SEQUENCE:3
DTSTAMP:20260421T140259Z
URL:https://chamber.gokennebunks.com/events/details/chamber-of-commerce-33rd-annual-golf-tournament-24431
END:VEVENT

END:VCALENDAR
