BEGIN:VCALENDAR
VERSION:2.0
PRODID:-//ChamberMaster//Event Calendar 2.0//EN
METHOD:PUBLISH
X-PUBLISHED-TTL:P3D
REFRESH-INTERVAL:P3D
CALSCALE:GREGORIAN
BEGIN:VEVENT
DTSTART:20240213T201500Z
DTEND:20240213T210000Z
X-MICROSOFT-CDO-ALLDAYEVENT:FALSE
SUMMARY:CENTER FOR WILDLIFE HIBERNATION PROGRAM
DESCRIPTION:Tuesday\, February 13\, from 3:15 to 4:00 PM. Hibernation Program with the Center for Wildlife. Join us for an interesting program with a special guest from the Center for Wildlife. The Center for Wildlife is a private\, non-profit conservation medicine and environmental education organization located in Cape Neddick\, ME. What will it be? A bird? A bat? Come in and see! For all ages\, pre-registration is required. The Library is located at 18 Maine Street\, Kennebunkport. For further information\, please call 967-2778 or visit our website at www.graveslibrary.org.
X-ALT-DESC;FMTTYPE=text/html:<span style="font-family:arial\,sans-serif">Tuesday\, February 13\, from 3:15 to 4:00 PM. <strong>Hibernation Program with the Center for Wildlife. </strong>Join us for an interesting program with a special guest from the Center for Wildlife. The Center for Wildlife is a private\, non-profit conservation medicine and environmental education organization located in Cape Neddick\, ME. What will it be? A bird? A bat? Come in and see! For all ages\, pre-registration is required. The Library is located at 18 Maine Street\, Kennebunkport. For further information\, please call 967-2778 or visit our website at www.graveslibrary.org.</span>
LOCATION:The Library is located at 18 Maine Street\, Kennebunkport. For further information\, please call 967-2778 or visit our website at www.graveslibrary.org.
UID:e.1923.24178
SEQUENCE:3
DTSTAMP:20260421T204551Z
URL:https://chamber.gokennebunks.com/events/details/center-for-wildlife-hibernation-program-24178
END:VEVENT

END:VCALENDAR
