BEGIN:VCALENDAR
VERSION:2.0
PRODID:-//ChamberMaster//Event Calendar 2.0//EN
METHOD:PUBLISH
X-PUBLISHED-TTL:P3D
REFRESH-INTERVAL:P3D
CALSCALE:GREGORIAN
BEGIN:VEVENT
DTSTART:20180711T220000Z
DTEND:20180712T010000Z
X-MICROSOFT-CDO-ALLDAYEVENT:FALSE
SUMMARY:Center for Grieving Children - Annual Midsummer Night's Soiree Benefit Concert
DESCRIPTION:Annual Midsummer Night's Soiree Benefit Concert\, Featuring The Don Campbell Band An intimate evening benefitting the Center for Grieving Children. A beautiful evening of music\, conversation\, and community. 6-7pm: Social Hour and Hors D'Oeuvres 7pm: Program and Concert
X-ALT-DESC;FMTTYPE=text/html:Annual Midsummer Night&rsquo\;s Soiree Benefit Concert\, Featuring The Don Campbell Band An intimate evening benefitting the Center for Grieving Children. A beautiful evening of music\, conversation\, and community. 6-7pm: Social Hour and Hors D&rsquo\;Oeuvres 7pm: Program and Concert
LOCATION:Vinegar Hill Music Theatre 53 Old Post Rd. Arundel\, ME 04046
UID:e.1923.7558
SEQUENCE:3
DTSTAMP:20260425T143528Z
URL:https://chamber.gokennebunks.com/events/details/center-for-grieving-children-annual-midsummer-night-s-soiree-benefit-concert-7558
END:VEVENT

END:VCALENDAR
