BEGIN:VCALENDAR
VERSION:2.0
PRODID:-//ChamberMaster//Event Calendar 2.0//EN
METHOD:PUBLISH
X-PUBLISHED-TTL:P3D
REFRESH-INTERVAL:P3D
CALSCALE:GREGORIAN
BEGIN:VEVENT
DTSTART:20180629T220000Z
DTEND:20180630T020000Z
X-MICROSOFT-CDO-ALLDAYEVENT:FALSE
SUMMARY:Cars & Cocktails: A Gala for AHS
DESCRIPTION:An event like no other! Cars & Cocktails is an evening of hors d' oeuvres and cocktails at the most unique location\, Bentley Warren's Private Museum in Arundel Maine. Live and silent auctions courtesy of our wonderful local businesses and supporters. Food by celebrated chef and restaurateur German Lucarelli of Ports of Italy\, The Kennebunks. This year we will be treating you to "A Night with the King"! Stay tuned for more details!
X-ALT-DESC;FMTTYPE=text/html:<span style="background-color:rgb(255\, 255\, 255)\; color:rgb(29\, 33\, 41)\; font-family:helvetica\,arial\,sans-serif\; font-size:14px">An event like no other! Cars &amp\; Cocktails is an evening of hors d&rsquo\; oeuvres and cocktails at the most unique location\, Bentley Warren&#39\;s Private Museum in Arundel Maine. Live and silent auctions courtesy of our wonderful local businesses and supporters. Food by celebrated chef and restaurateur German Lucarelli of Ports of Italy\, The Kennebunks. This year we will be treating you to &quot\;A Night with the King&quot\;! Stay tuned for more details!</span>
LOCATION:Bentley Warrens 345 Old Post Road Arundel\, ME 04046
UID:e.1923.9845
SEQUENCE:3
DTSTAMP:20260425T155224Z
URL:https://chamber.gokennebunks.com/events/details/cars-cocktails-a-gala-for-ahs-9845
END:VEVENT

END:VCALENDAR
