BEGIN:VCALENDAR
VERSION:2.0
PRODID:-//ChamberMaster//Event Calendar 2.0//EN
METHOD:PUBLISH
X-PUBLISHED-TTL:P3D
REFRESH-INTERVAL:P3D
CALSCALE:GREGORIAN
BEGIN:VEVENT
DTSTART:20230723T000000Z
DTEND:20230723T020000Z
X-MICROSOFT-CDO-ALLDAYEVENT:FALSE
SUMMARY:Caroline Rhea
DESCRIPTION:Caroline Rhea is a stand-up comedian and actress\, best known for her role as Hilda Spellman on the ABC hit series Sabrina The Teenage Witch\, and numerous comedy specials on Comedy Central\, HBO and Showtime.\n\nCaroline was the host of the Caroline Rhea Show\, has appeared as Linda Flynn Fletcher on Phineas and Ferb for over 10 seasons\, and has guest starred on many hit series\, including Two Broke Girls\, The Mark Maron Show\, and The Grinder. Caroline starred as Noleta Nethercott in the cult classic series Sordid Lives\, and reprised her role in the film A Very Sordid Wedding\, which ranked #1 on Amazon Films for a full month following its release. Most recently\, she can be seen on the dais of Comedy Central's Roast of Alec Baldwin. This marks Caroline's 36th year in comedy.
X-ALT-DESC;FMTTYPE=text/html:<div>Caroline Rhea is a stand-up comedian and actress\, best known for her role as Hilda Spellman on the ABC hit series Sabrina The Teenage Witch\, and numerous comedy specials on Comedy Central\, HBO and Showtime.</div>\n\n<div>Caroline was the host of the Caroline Rhea Show\, has appeared as Linda Flynn Fletcher on Phineas and Ferb for over 10 seasons\, and has guest starred on many hit series\, including Two Broke Girls\, The Mark Maron Show\, and The Grinder. Caroline starred as Noleta Nethercott in the cult classic series Sordid Lives\, and reprised her role in the film A Very Sordid Wedding\, which ranked #1 on Amazon Films for a full month following its release. Most recently\, she can be seen on the dais of Comedy Central&rsquo\;s Roast of Alec Baldwin. This marks Caroline&#39\;s 36th year in comedy.</div>\n
LOCATION:53 Old Post Road\, Arundel\, ME\, United States\, Maine
UID:e.1923.18401
SEQUENCE:3
DTSTAMP:20260422T050208Z
URL:https://chamber.gokennebunks.com/events/details/caroline-rhea-07-22-2023-18401
END:VEVENT

END:VCALENDAR
