BEGIN:VCALENDAR
VERSION:2.0
PRODID:-//ChamberMaster//Event Calendar 2.0//EN
METHOD:PUBLISH
X-PUBLISHED-TTL:P3D
REFRESH-INTERVAL:P3D
CALSCALE:GREGORIAN
BEGIN:VEVENT
DTSTART:20230716T130000Z
DTEND:20230716T160000Z
X-MICROSOFT-CDO-ALLDAYEVENT:FALSE
SUMMARY:Caring Unlimited’s Community 5K Run/ Walk
DESCRIPTION:A unique\, family friendly 5K course along Kennebunk's beautiful beaches. Race starts/ finishes at the KBIA (Kennebunk Beach Improvement Association) buildings: 262 Beach Ave.\, Kennebunk Register\, fundraise\, or donate at caring-unlimited.org/community5K
X-ALT-DESC;FMTTYPE=text/html:A unique\, family friendly 5K course along Kennebunk&#39\;s beautiful beaches. Race starts/ finishes at the KBIA (Kennebunk Beach Improvement Association) buildings: 262 Beach Ave.\, Kennebunk Register\, fundraise\, or donate at caring-unlimited.org/community5K
LOCATION:Lord's Point\, Kennebunk - Race starts/ finishes at the KBIA (Kennebunk Beach Improvement Association) buildings: 262 Beach Ave.\, Kennebunk
UID:e.1923.20175
SEQUENCE:3
DTSTAMP:20260422T050200Z
URL:https://chamber.gokennebunks.com/events/details/caring-unlimited-s-community-5k-run-walk-20175
END:VEVENT

END:VCALENDAR
