BEGIN:VCALENDAR
VERSION:2.0
PRODID:-//ChamberMaster//Event Calendar 2.0//EN
METHOD:PUBLISH
X-PUBLISHED-TTL:P3D
REFRESH-INTERVAL:P3D
CALSCALE:GREGORIAN
BEGIN:VEVENT
DTSTART:20250713T110000Z
DTEND:20250713T150000Z
X-MICROSOFT-CDO-ALLDAYEVENT:FALSE
SUMMARY:Caring Unlimited Community 5K Run/ Walk
DESCRIPTION:Caring Unlimited's Community 5K is an opportunity to bring our community together to build a future where everyone has access to the supportive resources they need to be safe\, it is a sustaining source of support for Caring Unlimited\; helping to ensure our programs and services are available 24 hours a day\, 365 days a year\, and its broad reach raises awareness about domestic violence and connects those in need with our services.
X-ALT-DESC;FMTTYPE=text/html:<span style="font-family:calibri\,sans-serif">Caring Unlimited&#39\;s Community 5K is an opportunity to bring our community together to build a future where everyone has access to the supportive resources they need to be safe\, it is a sustaining source of support for Caring Unlimited\; helping to ensure our programs and services are available 24 hours a day\, 365 days a year\, and its broad reach raises awareness about domestic violence and connects those in need with our services.</span>
LOCATION:Start/ Finish at the Kennebunk Beach Improvement Association (KBIA) 262 Beach Ave\, Kennebunk. Event parking at the Sea Road School\, Sea Rd.\, Kennebunk with free shuttle service to the start/finish. Shuttles leave Sea Road at: 6:30\, 7:00\, 730\, 8:00AM.
UID:e.1923.37544
SEQUENCE:3
DTSTAMP:20260421T073720Z
URL:https://chamber.gokennebunks.com/events/details/caring-unlimited-community-5k-run-walk-37544
END:VEVENT

END:VCALENDAR
