BEGIN:VCALENDAR
VERSION:2.0
PRODID:-//ChamberMaster//Event Calendar 2.0//EN
METHOD:PUBLISH
X-PUBLISHED-TTL:P3D
REFRESH-INTERVAL:P3D
CALSCALE:GREGORIAN
BEGIN:VEVENT
DTSTART:20240417T191500Z
DTEND:20240417T200000Z
X-MICROSOFT-CDO-ALLDAYEVENT:FALSE
SUMMARY:CARD MAKING STATION
DESCRIPTION:Wednesday\, April 17 at 3:15 PM. Card Making Station. We want to invite people of all ages to attend the kick-off of our card-making program\, where we will design cards to go with care packages from the Community Gourmet. This is a beautiful opportunity to show your support and positivity to those in need. During the program\, you can design and personalize cards using various materials\, such as markers\, stickers\, and stamps. These cards will be included in care packages distributed to seniors and individuals in our community. The Community Gourmet is a grass-roots effort to address food insecurity in Southern Maine. The Louis T. Graves Memorial Public Library is located at 18 Maine Street\, Kennebunkport. For further information\, please call 967-2778 or visit our website at www.graveslibrary.org.
X-ALT-DESC;FMTTYPE=text/html:<span style="font-family:arial\,sans-serif"><span style="font-size:10.5pt">Wednesday\, April 17 at 3:15 PM. <strong>Card Making Station</strong>. We want to invite people of all ages to attend the kick-off of our card-making program\, where we will design cards to go with care packages from the Community Gourmet. This is a beautiful opportunity to show your support and positivity to those in need. During the program\, you can design and personalize cards using various materials\, such as markers\, stickers\, and stamps. These cards will be included in care packages distributed to seniors and individuals in our community. The Community Gourmet is a grass-roots effort to address food insecurity in Southern Maine. The Louis T. Graves Memorial Public Library is located at 18 Maine Street\, Kennebunkport. For further information\, please call 967-2778 or visit our website at www.graveslibrary.org.</span></span>
LOCATION:The Louis T. Graves Memorial Public Library is located at 18 Maine Street\, Kennebunkport.
UID:e.1923.24559
SEQUENCE:3
DTSTAMP:20260421T163818Z
URL:https://chamber.gokennebunks.com/events/details/card-making-station-24559
END:VEVENT

END:VCALENDAR
