BEGIN:VCALENDAR
VERSION:2.0
PRODID:-//ChamberMaster//Event Calendar 2.0//EN
METHOD:PUBLISH
X-PUBLISHED-TTL:P3D
REFRESH-INTERVAL:P3D
CALSCALE:GREGORIAN
BEGIN:VEVENT
DTSTART:20250722T130000Z
DTEND:20250722T170000Z
X-MICROSOFT-CDO-ALLDAYEVENT:FALSE
SUMMARY:Car Wash
DESCRIPTION:Come support the comp teams heading to Nationals!! Max Capacity Hip Hop Crew and Modern Competition Dance Team. Come get your car sparkling clean while supporting a great cause! We're hosting a Car Wash Fundraiser to raise money for our two talented dance teams. Every wash helps us cover the costs of competitions\, travel\, and training so we can keep doing what we love dancing and representing our community with pride.
X-ALT-DESC;FMTTYPE=text/html:Come support the comp teams heading to Nationals!! Max Capacity Hip Hop Crew and Modern Competition Dance Team. Come get your car sparkling clean while supporting a great cause! We&#39\;re hosting a Car Wash Fundraiser to raise money for our two talented dance teams. Every wash helps us cover the costs of competitions\, travel\, and training so we can keep doing what we love&mdash\;dancing and representing our community with pride.
LOCATION:1048 Portland RD\, Arundel\, ME\, 04046
UID:e.1923.34908
SEQUENCE:3
DTSTAMP:20260421T073144Z
URL:https://chamber.gokennebunks.com/events/details/car-wash-34908
END:VEVENT

END:VCALENDAR
