BEGIN:VCALENDAR
VERSION:2.0
PRODID:-//ChamberMaster//Event Calendar 2.0//EN
METHOD:PUBLISH
X-PUBLISHED-TTL:P3D
REFRESH-INTERVAL:P3D
CALSCALE:GREGORIAN
BEGIN:VEVENT
DTSTART:20190615T150000Z
DTEND:20190615T170000Z
X-MICROSOFT-CDO-ALLDAYEVENT:FALSE
SUMMARY:Captains Cook-Off
DESCRIPTION:Watch local chefs turn Maine ingredients into a gourmet dish\, and see one crowned the winner. Amateurs\, professionals and even kids can enter their own cooking contest (entry to be cooked at home and then brought to the Waterhouse Center)\, with prizes awarded for best whoopie pie or best blueberry treat. Those who don't want to cook can still taste all of the entries and vote for people's choice winners\, as well as enjoy the food truck court featuring local food trucks.
X-ALT-DESC;FMTTYPE=text/html:Watch local chefs turn Maine ingredients into a gourmet dish\, and see one crowned the winner. Amateurs\, professionals and even kids can enter their own cooking contest (entry to be cooked at home and then brought to the Waterhouse Center)\, with prizes awarded for best whoopie pie or best blueberry treat. Those who don&#39\;t want to cook can still taste all of the entries and vote for people&#39\;s choice winners\, as well as enjoy the food truck court featuring local food trucks.
LOCATION:Waterhouse Center
UID:e.1923.13105
SEQUENCE:3
DTSTAMP:20260424T194226Z
URL:https://chamber.gokennebunks.com/events/details/captains-cook-off-13105
END:VEVENT

END:VCALENDAR
