BEGIN:VCALENDAR
VERSION:2.0
PRODID:-//ChamberMaster//Event Calendar 2.0//EN
METHOD:PUBLISH
X-PUBLISHED-TTL:P3D
REFRESH-INTERVAL:P3D
CALSCALE:GREGORIAN
BEGIN:VEVENT
DTSTART:20230930T130000Z
DTEND:20231001T210000Z
X-MICROSOFT-CDO-ALLDAYEVENT:FALSE
SUMMARY:Cape Porpoise Makers Market
DESCRIPTION:Vintage Wares\, Plants\, Watercolors\, Jewelry\, Hand Embroidery and so much more. We are hoping to create a bi-annual event at Atlantic Hall so please come and support new makers!
X-ALT-DESC;FMTTYPE=text/html:Vintage Wares\, Plants\, Watercolors\, Jewelry\, Hand Embroidery and so much more. We are hoping to create a bi-annual event at Atlantic Hall so please come and support new makers!
LOCATION:Atlantic Hall Kennebunkport
UID:e.1923.22495
SEQUENCE:3
DTSTAMP:20260422T021343Z
URL:https://chamber.gokennebunks.com/events/details/cape-porpoise-makers-market-22495
END:VEVENT

END:VCALENDAR
