BEGIN:VCALENDAR
VERSION:2.0
PRODID:-//ChamberMaster//Event Calendar 2.0//EN
METHOD:PUBLISH
X-PUBLISHED-TTL:P3D
REFRESH-INTERVAL:P3D
CALSCALE:GREGORIAN
BEGIN:VEVENT
DTSTART;VALUE=DATE:20220701
DTEND;VALUE=DATE:20220702
TRANSP:TRANSPARENT
X-MICROSOFT-CDO-ALLDAYEVENT:TRUE
SUMMARY:Canada Day at Seashore Trolley Museum
DESCRIPTION:Canadian residents ? Visit Seashore Trolley Museum today and receive FREE admission! Purchase tickets at the door inside our Museum Store to take advantage of this deal. Transit artifacts from Canada will be on display for guests to enjoy (not operating). We hope to see you!
X-ALT-DESC;FMTTYPE=text/html:<span style="font-family:merriweather\,georgia\,times new roman\,times\,serif\; font-size:18.6667px">Canadian residents ? Visit Seashore Trolley Museum today and receive FREE admission! Purchase tickets at the door inside our Museum Store to take advantage of this deal. Transit artifacts from Canada will be on display for guests to enjoy (not operating). We hope to see you!</span>
LOCATION:Seashore Trolley Museum 195 Log Cabin Road Kennebunkport\, ME 04046
UID:e.1923.17416
SEQUENCE:3
DTSTAMP:20260419T175510Z
URL:https://chamber.gokennebunks.com/events/details/canada-day-at-seashore-trolley-museum-17416
END:VEVENT

END:VCALENDAR
