BEGIN:VCALENDAR
VERSION:2.0
PRODID:-//ChamberMaster//Event Calendar 2.0//EN
METHOD:PUBLISH
X-PUBLISHED-TTL:P3D
REFRESH-INTERVAL:P3D
CALSCALE:GREGORIAN
BEGIN:VEVENT
DTSTART:20250612T220000Z
DTEND:20250612T230000Z
X-MICROSOFT-CDO-ALLDAYEVENT:FALSE
SUMMARY:cake by the ocean
DESCRIPTION:unwind\, stretch\, and treat yourself at our special cake by the ocean yoga event! we're bringing good vibes\, feel-good movement\, and a little something sweet to reward yourself after class cake pops for everyone from our friends at gemini cakes!\n\n\n\nplus\, we've partnered with Seaav Apparel to make this event even sweeter. every guest will receive a free butterfly bra from Seaav a super comfy\, sustainable\, and stylish gift just for showing up and flowing with us. Seaav is all about looking good when you sweat. their performance activewear is made from plastic bottle\, every piece they make protects our oceans by diverting 1 lb of plastic + restoring our coral reefs. \n\n\n\nthis all-levels yoga class is designed to help you breathe\, move\, and reset. whether you're new to yoga or a seasoned pro\, you'll leave feeling refreshed\, stretched out\, and maybe a little sugar-happy.\n\n\n\nbecause life is better when it's balanced mind\, body & cake pops.\n\n\n\nwith each $40 ticket\, you receive:\n\n- 60 minute sculpt class\n\n- SeaAV butterfly bra ($60 value)\n\n- Cake pop from Gemini Cakes\n\n\n\nsign up today using this link:  thedailysweatkennebunk.com
X-ALT-DESC;FMTTYPE=text/html:unwind\, stretch\, and treat yourself at our special cake by the ocean yoga event! we&rsquo\;re bringing good vibes\, feel-good movement\, and a little something sweet to reward yourself after class&mdash\;cake pops for everyone from our friends at gemini cakes!<br />\n<br />\nplus\, we&rsquo\;ve partnered with Seaav Apparel to make this event even sweeter. every guest will receive a free butterfly bra from Seaav&mdash\;a super comfy\, sustainable\, and stylish gift just for showing up and flowing with us. Seaav is all about looking good when you sweat. their performance activewear is made from plastic bottle\, every piece they make protects our oceans by diverting 1 lb of plastic + restoring our coral reefs.&nbsp\;<br />\n<br />\nthis all-levels yoga class is designed to help you breathe\, move\, and reset. whether you&rsquo\;re new to yoga or a seasoned pro\, you&rsquo\;ll leave feeling refreshed\, stretched out\, and maybe a little sugar-happy.<br />\n<br />\nbecause life is better when it&rsquo\;s balanced&mdash\;mind\, body &amp\; cake pops.<br />\n<br />\nwith each $40 ticket\, you receive:<br />\n- 60 minute sculpt class<br />\n- SeaAV butterfly bra ($60 value)<br />\n- Cake pop from Gemini Cakes<br />\n<br />\nsign up today using this link:&nbsp\; thedailysweatkennebunk.com
LOCATION:65 Portland RD\, Kennebunk ME\, 04043
UID:e.1923.34897
SEQUENCE:3
DTSTAMP:20260421T061205Z
URL:https://chamber.gokennebunks.com/events/details/cake-by-the-ocean-34897
END:VEVENT

END:VCALENDAR
