BEGIN:VCALENDAR
VERSION:2.0
PRODID:-//ChamberMaster//Event Calendar 2.0//EN
METHOD:PUBLISH
X-PUBLISHED-TTL:P3D
REFRESH-INTERVAL:P3D
CALSCALE:GREGORIAN
BEGIN:VEVENT
DTSTART:20231212T213000Z
DTEND:20231212T223000Z
X-MICROSOFT-CDO-ALLDAYEVENT:FALSE
SUMMARY:buti yoga + bubbles
DESCRIPTION:"join us for this special pop up buti yoga class\, where we'll harness all our energy for this special hour of movement our bodies have been craving. a glass of bubbly will be served after. $27 drop in\, $5 for members a little more about buti: complete with cardio dance\, drumming on your mat\, sweat dripping down your face and a whole lot of movements that bring love into your body. we've done a lot of fitness varieties\, but there's nothing quite like buti - and although you feel slightly insane while it's happening\, you're thinking twice as hard about how you never want it to stop."
X-ALT-DESC;FMTTYPE=text/html:&quot\;join us for this special pop up buti yoga class\, where we&#39\;ll harness all our energy for this special hour of movement our bodies have been craving. a glass of bubbly will be served after. $27 drop in\, $5 for members a little more about buti: complete with cardio dance\, drumming on your mat\, sweat dripping down your face and a whole lot of movements that bring love into your body. we&#39\;ve done a lot of fitness varieties\, but there&#39\;s nothing quite like buti - and although you feel slightly insane while it&#39\;s happening\, you&#39\;re thinking twice as hard about how you never want it to stop.&quot\;
LOCATION:The Daily Sweat 65 Portland Rd Kennebunk\, ME 04043
UID:e.1923.23278
SEQUENCE:3
DTSTAMP:20260421T220757Z
URL:https://chamber.gokennebunks.com/events/details/buti-yoga-bubbles-23278
END:VEVENT

END:VCALENDAR
