BEGIN:VCALENDAR
VERSION:2.0
PRODID:-//ChamberMaster//Event Calendar 2.0//EN
METHOD:PUBLISH
X-PUBLISHED-TTL:P3D
REFRESH-INTERVAL:P3D
CALSCALE:GREGORIAN
BEGIN:VEVENT
DTSTART:20191030T230000Z
DTEND:20191031T000000Z
X-MICROSOFT-CDO-ALLDAYEVENT:FALSE
SUMMARY:Buti Glow
DESCRIPTION:It's Buti in the dark\, baby! Sport your favorite neon colors and body paints for an unforgettably fun class with us. Learn more about Buti... Have you read the book Where the Wild Moms Are? Buti is their dance party. Complete with tribal dance\, drumming on your mat\, sweat dripping down your face and a whole lot of movements that bring love into your body. We've done a lot of fitness varieties\, but there's nothing quite like Buti - and although you feel slightly insane while it's happening\, you're thinking twice as hard about how you never want it to stop.
X-ALT-DESC;FMTTYPE=text/html:It&#39\;s Buti in the dark\, baby! Sport your favorite neon colors and body paints for an unforgettably fun class with us. Learn more about Buti... Have you read the book Where the Wild Moms Are? Buti is their dance party. Complete with tribal dance\, drumming on your mat\, sweat dripping down your face and a whole lot of movements that bring love into your body. We&#39\;ve done a lot of fitness varieties\, but there&#39\;s nothing quite like Buti - and although you feel slightly insane while it&#39\;s happening\, you&#39\;re thinking twice as hard about how you never want it to stop.
LOCATION:The Daily Sweat Yoga + Barre 65 Portland Rd Kennebunk Maine Building A\, Unit D
UID:e.1923.13476
SEQUENCE:3
DTSTAMP:20260424T140531Z
URL:https://chamber.gokennebunks.com/events/details/buti-glow-13476
END:VEVENT

END:VCALENDAR
