BEGIN:VCALENDAR
VERSION:2.0
PRODID:-//ChamberMaster//Event Calendar 2.0//EN
METHOD:PUBLISH
X-PUBLISHED-TTL:P3D
REFRESH-INTERVAL:P3D
CALSCALE:GREGORIAN
BEGIN:VEVENT
DTSTART:20190829T214500Z
DTEND:20190829T224500Z
X-MICROSOFT-CDO-ALLDAYEVENT:FALSE
SUMMARY:Buti & Bubbles
DESCRIPTION:We're raising the heat with a special HOT Buti class followed by fruit + champagne\, it's our final toast to summer before school starts.\n\ncost: $25 drop in\, $5 for members
X-ALT-DESC;FMTTYPE=text/html:<p>We&#39\;re raising the heat with a special HOT Buti class followed by fruit + champagne\, it&#39\;s our final toast to summer before school starts.</p>\n\n<p>cost: $25 drop in\, $5 for members</p>\n
LOCATION:The Daily Sweat 65 Portland Road Building A\, Suite D Kennebunk\, ME 04043
UID:e.1923.13401
SEQUENCE:3
DTSTAMP:20260424T165358Z
URL:https://chamber.gokennebunks.com/events/details/buti-bubbles-13401
END:VEVENT

END:VCALENDAR
