BEGIN:VCALENDAR
VERSION:2.0
PRODID:-//ChamberMaster//Event Calendar 2.0//EN
METHOD:PUBLISH
X-PUBLISHED-TTL:P3D
REFRESH-INTERVAL:P3D
CALSCALE:GREGORIAN
BEGIN:VEVENT
DTSTART:20250610T203000Z
DTEND:20250610T213000Z
X-MICROSOFT-CDO-ALLDAYEVENT:FALSE
SUMMARY:buti + bubbles
DESCRIPTION:we are firm believers that there's no such thing as a birthDAY - it's a birthWEEK. what better way to celebrate night TWO than with a buti class followed by a glass of champagne? we love to sweat with you and have an excuse to spend a little extra time together. sign up today to grab a spot.\n\n\n\nmore on buti:\n\nbuti yoga is a music-driven movement methodology that incorporates dynamic yoga asana\, cardio-dance bursts & deep core conditioning.\n\n\n\nwhat are you waiting for? bring your friends\, buy one get one free drop ins or members enjoy free guests this evening.\n\n\n\nsign up today using this link: thedailysweatkennebunk.com
X-ALT-DESC;FMTTYPE=text/html:we are firm believers that there&#39\;s no such thing as a birthDAY - it&#39\;s a birthWEEK. what better way to celebrate night TWO than with a buti class followed by a glass of champagne? we love to sweat with you and have an excuse to spend a little extra time together. sign up today to grab a spot.<br />\n<br />\nmore on buti:<br />\nbuti yoga is a music-driven movement methodology that incorporates dynamic yoga asana\, cardio-dance bursts &amp\; deep core conditioning.<br />\n<br />\nwhat are you waiting for? bring your friends\, buy one get one free drop ins or members enjoy free guests this evening.<br />\n<br />\nsign up today using this link: thedailysweatkennebunk.com
LOCATION:65 Portland RD\, Kennebunk\, ME\, 04043
UID:e.1923.34896
SEQUENCE:3
DTSTAMP:20260421T061323Z
URL:https://chamber.gokennebunks.com/events/details/buti-bubbles-06-10-2025-34896
END:VEVENT

END:VCALENDAR
