BEGIN:VCALENDAR
VERSION:2.0
PRODID:-//ChamberMaster//Event Calendar 2.0//EN
METHOD:PUBLISH
X-PUBLISHED-TTL:P3D
REFRESH-INTERVAL:P3D
CALSCALE:GREGORIAN
BEGIN:VEVENT
DTSTART:20191027T150000Z
DTEND:20191027T160000Z
X-MICROSOFT-CDO-ALLDAYEVENT:FALSE
SUMMARY:Buti + Brews with After Harvest Cider Company
DESCRIPTION:Our very own tribe member\, Allie\, will be doing a special tasting from her family's orchard and cidery\, After Harvest Cider co. This event will be at the studio to wrap up our month of buti pop ups. Join us for dance\, drums\, sweat + delicious cider.
X-ALT-DESC;FMTTYPE=text/html:Our very own tribe member\, Allie\, will be doing a special tasting from her family&#39\;s orchard and cidery\, After Harvest Cider co. This event will be at the studio to wrap up our month of buti pop ups. Join us for dance\, drums\, sweat + delicious cider.
LOCATION:The Daily Sweat Yoga + Barre 65 Portland Rd Kennebunk ME Building A\, Unit D
UID:e.1923.13477
SEQUENCE:3
DTSTAMP:20260424T141041Z
URL:https://chamber.gokennebunks.com/events/details/buti-brews-with-after-harvest-cider-company-13477
END:VEVENT

END:VCALENDAR
