BEGIN:VCALENDAR
VERSION:2.0
PRODID:-//ChamberMaster//Event Calendar 2.0//EN
METHOD:PUBLISH
X-PUBLISHED-TTL:P3D
REFRESH-INTERVAL:P3D
CALSCALE:GREGORIAN
BEGIN:VEVENT
DTSTART:20191020T150000Z
DTEND:20191020T160000Z
X-MICROSOFT-CDO-ALLDAYEVENT:FALSE
SUMMARY:Buti + Brews at Hidden Cove
DESCRIPTION:We're taking our buti tribe south to Hidden Cove Brewery in Wells where you?ll find deliciously crafted brews. Join us for dance\, drums\, sweat + great beer from our friends at Hidden Cove. \n \nBonus! Hidden Cove is partnering with us this month and everyone who attends will be entered to win a month package at The Daily Sweat!
X-ALT-DESC;FMTTYPE=text/html:We're taking our buti tribe south to Hidden Cove Brewery in Wells where you?ll find deliciously crafted brews. Join us for dance\, drums\, sweat + great beer from our friends at Hidden Cove. \n \nBonus! Hidden Cove is partnering with us this month and everyone who attends will be entered to win a month package at The Daily Sweat!\n 
LOCATION:73 Mile Rd\, Wells ME 04090
UID:e.1923.13474
SEQUENCE:3
DTSTAMP:20260424T041547Z
URL:https://chamber.gokennebunks.com/events/details/buti-brews-at-hidden-cove-13474
END:VEVENT

END:VCALENDAR
