BEGIN:VCALENDAR
VERSION:2.0
PRODID:-//ChamberMaster//Event Calendar 2.0//EN
METHOD:PUBLISH
X-PUBLISHED-TTL:P3D
REFRESH-INTERVAL:P3D
CALSCALE:GREGORIAN
BEGIN:VEVENT
DTSTART:20191006T143000Z
DTEND:20191006T153000Z
X-MICROSOFT-CDO-ALLDAYEVENT:FALSE
SUMMARY:Buti + Brews at Funky Bow
DESCRIPTION:We're taking our buti tribe deep in the woods of Lyman where you?ll find one of the most sought after breweries in Maine. A father and son team ?done good? developing some of the tastiest beers around. Join us for dance\, drums\, sweat + great beer from our friends at Funky Bow!
X-ALT-DESC;FMTTYPE=text/html:We're taking our buti tribe deep in the woods of Lyman where you?ll find one of the most sought after breweries in Maine. A father and son team ?done good? developing some of the tastiest beers around. Join us for dance\, drums\, sweat + great beer from our friends at Funky Bow!\n \n
LOCATION:Funky Bow Brewery and Beer Company 21 Ledgewood Ln Lyman ME 04002
UID:e.1923.13472
SEQUENCE:3
DTSTAMP:20260424T140714Z
URL:https://chamber.gokennebunks.com/events/details/buti-brews-at-funky-bow-13472
END:VEVENT

END:VCALENDAR
