BEGIN:VCALENDAR
VERSION:2.0
PRODID:-//ChamberMaster//Event Calendar 2.0//EN
METHOD:PUBLISH
X-PUBLISHED-TTL:P3D
REFRESH-INTERVAL:P3D
CALSCALE:GREGORIAN
BEGIN:VEVENT
DTSTART:20260328T170000Z
DTEND:20260328T180000Z
X-MICROSOFT-CDO-ALLDAYEVENT:FALSE
SUMMARY:But First\, Tequila at The Burleigh
DESCRIPTION:Learn how to make three of our favorite tequila-based drinks while enjoying guided tastings of each cocktail. You'll take home recipe cards so you can recreate them at home\, and light snacks will be provided to complement the experience. Perfect for cocktail enthusiasts of all levels! Part of The Burleigh's Spring into Summer Programming. ~~ Class is open to 21+. Parking available off-site at the Dock Square parking lot next door to Kennebunkport Inn.
X-ALT-DESC;FMTTYPE=text/html:Learn how to make three of our favorite tequila-based drinks while enjoying guided tastings of each cocktail. You&#39\;ll take home recipe cards so you can recreate them at home\, and light snacks will be provided to complement the experience. Perfect for cocktail enthusiasts of all levels! Part of The Burleigh&#39\;s Spring into Summer Programming. ~~ Class is open to 21+. Parking available off-site at the Dock Square parking lot next door to Kennebunkport Inn.
LOCATION:Kennebunkport Inn One Dock Square Kennebunkport\, ME 04046
UID:e.1923.38949
SEQUENCE:3
DTSTAMP:20260421T220946Z
URL:https://chamber.gokennebunks.com/events/details/but-first-tequila-at-the-burleigh-03-28-2026-38949
END:VEVENT

END:VCALENDAR
