BEGIN:VCALENDAR
VERSION:2.0
PRODID:-//ChamberMaster//Event Calendar 2.0//EN
METHOD:PUBLISH
X-PUBLISHED-TTL:P3D
REFRESH-INTERVAL:P3D
CALSCALE:GREGORIAN
BEGIN:VEVENT
DTSTART:20250521T210000Z
DTEND:20250521T230000Z
X-MICROSOFT-CDO-ALLDAYEVENT:FALSE
SUMMARY:Business After Hours: The Nonantum Resort
DESCRIPTION:Join us for Business After Hours at The Nonantum Resort! A joint effort with the Kennebunk Rotary Club for its annual Scholarship Raffle.\n\n\n\nThis event will be held on Wednesday\, May 21 from 5-7pm. The address is 95 Ocean Ave\, Kennebunkport. \n\n\n\nThere will be light fare served\, courtesy of the Nonantum. The evening will close out with the Rotary Club's annual Scholarship Raffle. \n\n\n\nTickets will be available for purchase at the door. Pre-purchased tickets may ease the wait time at the check-in table. We look forward to seeing you there!\n\n\n\nTo learn more about The Nonantum Resort\, click here!
X-ALT-DESC;FMTTYPE=text/html:<div class="kvgmc6g5 cxmmr5t8 oygrvhab hcukyx3x c1et5uql" style="box-sizing: border-box\; border: 0px rgb(230\, 230\, 230)\; outline: 0px\; vertical-align: baseline\; background: rgb(255\, 255\, 255)\; margin: 0px\; padding: 0px\; overflow-wrap: break-word\; font-family: &quot\;Segoe UI Historic&quot\;\, &quot\;Segoe UI&quot\;\, Helvetica\, Arial\, sans-serif\; color: rgb(5\, 5\, 5)\; font-size: 15px\;"><span style="font-size:18px\;"><strong><span style="font-family:arial\;"><span style="box-sizing: border-box\; border: 0px rgb(230\, 230\, 230)\; outline: 0px\; vertical-align: baseline\; background: transparent\; margin: 0px\; padding: 0px\;">Join us for Business After Hours at The Nonantum Resort!&nbsp\;A</span><span style="box-sizing: border-box\; border: 0px rgb(230\, 230\, 230)\; outline: 0px\; vertical-align: baseline\; background: transparent\; margin: 0px\; padding: 0px\;">&nbsp\;joint effort with the Kennebunk Rotary Club for its annual Scholarship Raffle.</span></span></strong></span></div>\n\n<div class="o9v6fnle cxmmr5t8 oygrvhab hcukyx3x c1et5uql" style="box-sizing: border-box\; border: 0px rgb(230\, 230\, 230)\; outline: 0px\; vertical-align: baseline\; background: rgb(255\, 255\, 255)\; margin: 0.5em 0px 0px\; padding: 0px\; overflow-wrap: break-word\; font-family: &quot\;Segoe UI Historic&quot\;\, &quot\;Segoe UI&quot\;\, Helvetica\, Arial\, sans-serif\; color: rgb(5\, 5\, 5)\; font-size: 15px\;"><br />\n<span style="font-size:16px\;"><span style="font-family:arial\;"><span style="box-sizing: border-box\; border: 0px rgb(230\, 230\, 230)\; outline: 0px\; vertical-align: baseline\; background: transparent\; margin: 0px\; padding: 0px\;">This event will be held on <strong>Wednesday\, May 21 from 5-7pm</strong>. The address is 95 Ocean Ave\, Kennebunkport.&nbsp\;<br />\n<br />\nThere will be light fare served\, courtesy of the Nonantum. The evening will close out with the Rotary Club&#39\;s annual Scholarship Raffle.&nbsp\;</span></span><br />\n<br />\n<span style="color: rgb(5\, 5\, 5)\; font-family: arial\;">Tickets will be available for purchase at the door. Pre-purchased tickets may ease the wait time at the check-in table.&nbsp\;</span><span style="font-family:arial\;">We look forward to seeing you there!<br />\n<br />\nTo learn more about The Nonantum Resort\, click <a href="https://www.nonantumresort.com/">here</a>!</span></span></div>\n
LOCATION:The Nonantum Resort 95 Ocean Ave\, Kennebunkport
UID:e.1923.33275
SEQUENCE:3
DTSTAMP:20260421T045934Z
URL:https://chamber.gokennebunks.com/events/details/business-after-hours-the-nonantum-resort-33275
END:VEVENT

END:VCALENDAR
