BEGIN:VCALENDAR
VERSION:2.0
PRODID:-//ChamberMaster//Event Calendar 2.0//EN
METHOD:PUBLISH
X-PUBLISHED-TTL:P3D
REFRESH-INTERVAL:P3D
CALSCALE:GREGORIAN
BEGIN:VEVENT
DTSTART:20240822T210000Z
DTEND:20240822T230000Z
X-MICROSOFT-CDO-ALLDAYEVENT:FALSE
SUMMARY:Business After Hours: Seashore Trolley Museum and Revolution Rail Co.
DESCRIPTION:Come on over and join us for our Business After Hours at the Seashore Trolley Museum with co-host Revolution Rail! \n\n\n\nJoin us Thursday\, August 22 from 5-7pm to spend the evening exploring the first and largest electric railway museum in the world\, great conversation\, a cook-out dinner\, craft beers and door prizes\, too!\n\n\n\nTrolley rides and railbike rides will be offered throughout the event!\n\nTickets will be available for purchase at the door. Pre-purchased tickets may ease the wait time at the check-in table.\n\n\n\nTo learn more about the Seashore Trolley Museum\, click here!\n\nTo learn more about Revolution Rail\, click here!
X-ALT-DESC;FMTTYPE=text/html:<span style="color:#000000\;"><span style="font-size:18px\;"><strong>Come on over and join us for our Business After Hours at the Seashore Trolley Museum with co-host Revolution Rail!&nbsp\;</strong><br />\n<br />\n<span style="font-size:16px\;"><span style="font-family:arial\;">Join us Thursday\, August 22 from 5-7pm to spend the evening exploring the first and largest electric railway museum in the world\,</span></span></span></span><span class="x193iq5w xeuugli x13faqbe x1vvkbs x1xmvt09 x1lliihq x1s928wv xhkezso x1gmr53x x1cpjm7i x1fgarty x1943h6x xudqn12 x3x7a5m x6prxxf xvq8zen xo1l8bm xzsf02u" dir="auto">&nbsp\;<span style="font-size:16px\;">great conversation\, a cook-out dinner\, craft beers and door prizes\, too!</span></span><br />\n<br />\n<span style="color:#000000\;"><span style="font-size:18px\;"><span style="font-size:16px\;"><span style="font-family: &quot\;Segoe UI Historic&quot\;\, &quot\;Segoe UI&quot\;\, Helvetica\, Arial\, sans-serif\;"><span style="font-family:arial\;">Trolley rides and railbike rides will be offered throughout the event!</span></span><br />\nTickets will be available for purchase at the door. Pre-purchased tickets may ease the wait time at the check-in table.<br />\n<br />\nTo learn more about the Seashore Trolley Museum\, click <a href="https://trolleymuseum.org/">here</a>!<br />\nTo learn more about Revolution Rail\, click <a href="https://www.revrail.com/">here</a>!</span></span></span>
LOCATION:195 Log Cabin Road\, Kennebunkport
UID:e.1923.25324
SEQUENCE:3
DTSTAMP:20260421T124429Z
URL:https://chamber.gokennebunks.com/events/details/business-after-hours-seashore-trolley-museum-and-revolution-rail-co-25324
END:VEVENT

END:VCALENDAR
