BEGIN:VCALENDAR
VERSION:2.0
PRODID:-//ChamberMaster//Event Calendar 2.0//EN
METHOD:PUBLISH
X-PUBLISHED-TTL:P3D
REFRESH-INTERVAL:P3D
CALSCALE:GREGORIAN
BEGIN:VEVENT
DTSTART:20250618T210000Z
DTEND:20250618T230000Z
X-MICROSOFT-CDO-ALLDAYEVENT:FALSE
SUMMARY:Business After Hours: Seashore Trolley Museum
DESCRIPTION:Come on over and join us for our Business After Hours at the Seashore Trolley Museum! \n\n\n\nThe Seashore Trolley Museum is firing up the grill for a full-on summer cookout this Wednesday from 5-7 PM! \n\nOn the menu: hamburgers and cheeseburgers\, classic hotdogs\, veggie burgers and veggie dogs\, plus all the fixings. Sides include potato salad\, pasta salad\, chips\, and fresh watermelon. Save room for dessert it's a homemade strawberry trifle!\n\n\n\nTo drink\, they'll have water\, a variety of soft drinks\, wine\, and local craft beer.\n\n\n\nAnd the best part? The burgers and hotdogs are fresh from Shields Meats!\n\n\n\nTrolley rides will be offered throughout the event!\n\nTickets will be available for purchase at the door. Pre-purchased tickets may ease the wait time at the check-in table.\n\n\n\nTo learn more about the Seashore Trolley Museum\, click here!
X-ALT-DESC;FMTTYPE=text/html:<span style="color:#000000\;"><span style="font-size:18px\;"><strong>Come on over and join us for our Business After Hours at the Seashore Trolley Museum!&nbsp\;</strong></span></span><br />\n<br />\n<span style="font-size:18px\;"><span style="font-family:arial\;"><span style="white-space-collapse: preserve\;">The </span><span class="xv78j7m" spellcheck="false" style="white-space-collapse: preserve\;">Seashore Trolley Museum</span><span style="white-space-collapse: preserve\;"> is firing up the grill for a full-on summer cookout this Wednesday from 5-7 PM! </span><br />\n<span style="white-space-collapse: preserve\;">On the menu: hamburgers and cheeseburgers\, classic hotdogs\, veggie burgers and veggie dogs\, plus all the fixings. Sides include potato salad\, pasta salad\, chips\, and fresh watermelon. Save room for dessert it&#39\;s a homemade strawberry trifle!</span><br />\n<br />\n<span style="white-space-collapse: preserve\;">To drink\, they&rsquo\;ll have water\, a variety of soft drinks\, wine\, and local craft beer.</span><br />\n<br />\n<span style="white-space-collapse: preserve\;">And the best part? The burgers and hotdogs are fresh from Shields Meats!</span></span><br />\n<br />\n<span style="font-family: &quot\;Segoe UI Historic&quot\;\, &quot\;Segoe UI&quot\;\, Helvetica\, Arial\, sans-serif\;"><span style="font-family:arial\;">Trolley rides will be offered throughout the event!</span></span><br />\nTickets will be available for purchase at the door. Pre-purchased tickets may ease the wait time at the check-in table.<br />\n<br />\nTo learn more about the Seashore Trolley Museum\, click <a href="https://trolleymuseum.org/">here</a>!</span><br />\n&nbsp\;
LOCATION:195 Log Cabin Road\, Kennebunkport
UID:e.1923.33285
SEQUENCE:3
DTSTAMP:20260421T062224Z
URL:https://chamber.gokennebunks.com/events/details/business-after-hours-seashore-trolley-museum-33285
END:VEVENT

END:VCALENDAR
