BEGIN:VCALENDAR
VERSION:2.0
PRODID:-//ChamberMaster//Event Calendar 2.0//EN
METHOD:PUBLISH
X-PUBLISHED-TTL:P3D
REFRESH-INTERVAL:P3D
CALSCALE:GREGORIAN
BEGIN:VEVENT
DTSTART:20250219T220000Z
DTEND:20250220T000000Z
X-MICROSOFT-CDO-ALLDAYEVENT:FALSE
SUMMARY:Business After Hours: Pedro's Mexican Restaurant
DESCRIPTION:Join us on Wednesday\, February 19th for Business After Hours at Pedro's Mexican Restaurant in Kennebunk. There will be food\, drinks\, raffle prizes and more!\n\nCome thaw out with tacos and margaritas! \n\n\n\n$5 for Chamber Members\n\n$10 for non-Chamber Members\n\n\n\nTo learn more about Pedro's Mexican Restaurant\, click here!
X-ALT-DESC;FMTTYPE=text/html:<p>Join us on Wednesday\, February 19th for Business After Hours&nbsp\;at Pedro&#39\;s Mexican Restaurant&nbsp\;in Kennebunk. There will be food\, drinks\, raffle prizes and more!<br />\nCome thaw out with tacos and margaritas!&nbsp\;<br />\n<br />\n$5 for Chamber Members<br />\n$10 for non-Chamber Members<br />\n<br />\nTo learn more about Pedro&#39\;s Mexican Restaurant\, click <a href="https://pedrosmaine.com/">here</a>!</p>\n
LOCATION:Pedro's Mexican Restaurant 181 Port Rd. Kennebunk\, ME
UID:e.1923.31459
SEQUENCE:3
DTSTAMP:20260420T230424Z
URL:https://chamber.gokennebunks.com/events/details/business-after-hours-pedro-s-mexican-restaurant-31459
END:VEVENT

END:VCALENDAR
