BEGIN:VCALENDAR
VERSION:2.0
PRODID:-//ChamberMaster//Event Calendar 2.0//EN
METHOD:PUBLISH
X-PUBLISHED-TTL:P3D
REFRESH-INTERVAL:P3D
CALSCALE:GREGORIAN
BEGIN:VEVENT
DTSTART:20231115T220000Z
DTEND:20231116T000000Z
X-MICROSOFT-CDO-ALLDAYEVENT:FALSE
SUMMARY:Business After Hours: Pedro's Mexican Restaurant
DESCRIPTION:Join us on Wednesday\, November 15th for Business After Hours at Pedro's Mexican Restaurant in Kennebunk. There will be food\, drinks and more! \n\n\n\n$5 for Chamber Members\n\n$10 for non-Chamber Members\n\n\n\nTo learn more about Pedro's Mexican Restaurant\, click here!
X-ALT-DESC;FMTTYPE=text/html:<p>Join us on Wednesday\, November 15th for Business After Hours&nbsp\;at Pedro&#39\;s Mexican Restaurant&nbsp\;in Kennebunk. There will be food\, drinks&nbsp\;and more!&nbsp\;<br />\n<br />\n$5 for Chamber Members<br />\n$10 for non-Chamber Members<br />\n<br />\nTo learn more about Pedro&#39\;s Mexican Restaurant\, click <a href="https://pedrosmaine.com/">here</a>!</p>\n
LOCATION:Pedro's Mexican Restaurant 181 Port Rd. Kennebunk\, ME
UID:e.1923.22498
SEQUENCE:3
DTSTAMP:20260421T233113Z
URL:https://chamber.gokennebunks.com/events/details/business-after-hours-pedro-s-mexican-restaurant-22498
END:VEVENT

END:VCALENDAR
