BEGIN:VCALENDAR
VERSION:2.0
PRODID:-//ChamberMaster//Event Calendar 2.0//EN
METHOD:PUBLISH
X-PUBLISHED-TTL:P3D
REFRESH-INTERVAL:P3D
CALSCALE:GREGORIAN
BEGIN:VEVENT
DTSTART:20230719T210000Z
DTEND:20230719T230000Z
X-MICROSOFT-CDO-ALLDAYEVENT:FALSE
SUMMARY:Business After Hours: Motorland Maine Classic Car Museum
DESCRIPTION:Cruise on over and join us for our Business After Hours at Motorland Maine Classic Car Museum! \n\n\n\nStep back in time and enjoy viewing a world-class car collection\, great conversation\, delicious food\, refreshing cocktails and door prizes\, too!\n\n\n\nTickets will be available for purchase at the door. Pre-purchased tickets may ease the wait time at the check-in table.
X-ALT-DESC;FMTTYPE=text/html:<span style="box-sizing: border-box\; border: 0px rgb(230\, 230\, 230)\; outline: 0px\; vertical-align: baseline\; background-image: initial\; background-position: initial\; background-size: initial\; background-repeat: initial\; background-attachment: initial\; background-origin: initial\; background-clip: initial\; margin: 0px\; padding: 0px\; font-weight: bolder\; color: rgb(68\, 68\, 68)\; font-family: Arial\, Helvetica\, sans-serif\; font-size: 14px\;"><span style="box-sizing: border-box\; border: 0px rgb(230\, 230\, 230)\; outline: 0px\; vertical-align: baseline\; background: transparent\; margin: 0px\; padding: 0px\; font-size: 18px\;">Cruise on over and join us for our Business After Hours at Motorland Maine Classic Car Museum!&nbsp\;</span></span><br style="box-sizing: border-box\; border-color: rgb(230\, 230\, 230)\; color: rgb(68\, 68\, 68)\; font-family: Arial\, Helvetica\, sans-serif\; font-size: 14px\;" />\n<br style="box-sizing: border-box\; border-color: rgb(230\, 230\, 230)\; color: rgb(68\, 68\, 68)\; font-family: Arial\, Helvetica\, sans-serif\; font-size: 14px\;" />\n<span style="color: rgb(68\, 68\, 68)\; font-family: Arial\, Helvetica\, sans-serif\; font-size: 14px\;">Step back in time and enjoy viewing a world-class car collection\, great conversation\, delicious food\, refreshing cocktails and door prizes\, too!</span><br style="box-sizing: border-box\; border-color: rgb(230\, 230\, 230)\; color: rgb(68\, 68\, 68)\; font-family: Arial\, Helvetica\, sans-serif\; font-size: 14px\;" />\n<br style="box-sizing: border-box\; border-color: rgb(230\, 230\, 230)\; color: rgb(68\, 68\, 68)\; font-family: Arial\, Helvetica\, sans-serif\; font-size: 14px\;" />\n<span style="color: rgb(68\, 68\, 68)\; font-family: Arial\, Helvetica\, sans-serif\; font-size: 14px\;">Tickets will be available for purchase at the door. Pre-purchased tickets may ease the wait time at the check-in table.</span>
LOCATION:2564 Portland Rd\, Arundel
UID:e.1923.19163
SEQUENCE:3
DTSTAMP:20260422T050622Z
URL:https://chamber.gokennebunks.com/events/details/business-after-hours-motorland-maine-classic-car-museum-19163
END:VEVENT

END:VCALENDAR
