BEGIN:VCALENDAR
VERSION:2.0
PRODID:-//ChamberMaster//Event Calendar 2.0//EN
METHOD:PUBLISH
X-PUBLISHED-TTL:P3D
REFRESH-INTERVAL:P3D
CALSCALE:GREGORIAN
BEGIN:VEVENT
DTSTART:20250716T210000Z
DTEND:20250716T230000Z
X-MICROSOFT-CDO-ALLDAYEVENT:FALSE
SUMMARY:Business After Hours: Huntington Common - Sunrise Senior Living
DESCRIPTION:Join us on Wednesday\, July 16th for Business After Hours at Huntington Common - Sunrise Senior Living in Kennebunk. There will be live music\, a thoughtfully curated menu\, drinks\, dessert\, raffle prizes and more!\n\n\n\n$5 for Chamber Members\n\n$10 for non-Chamber Members\n\n\n\nTo learn more about the Huntington Common click here!
X-ALT-DESC;FMTTYPE=text/html:<p>Join us on Wednesday\, July 16th for Business After Hours at Huntington Common - Sunrise Senior Living in Kennebunk. There will be live music\, a thoughtfully curated menu\, drinks\, dessert\, raffle prizes and more!<br />\n<br />\n$5 for Chamber Members<br />\n$10 for non-Chamber Members<br />\n<br />\nTo learn more about the Huntington Common&nbsp\;click <a href="https://www.sunriseseniorliving.com/communities/me/huntington-common?utm_source=directory_listings&amp\;utm_medium=clicks&amp\;utm_campaign=google">here</a>!</p>\n
LOCATION:Huntington Common - Sunrise Senior Living 1 Huntington Common Drive Kennebunk\, ME
UID:e.1923.33268
SEQUENCE:3
DTSTAMP:20260421T074455Z
URL:https://chamber.gokennebunks.com/events/details/business-after-hours-huntington-common-sunrise-senior-living-33268
END:VEVENT

END:VCALENDAR
