BEGIN:VCALENDAR
VERSION:2.0
PRODID:-//ChamberMaster//Event Calendar 2.0//EN
METHOD:PUBLISH
X-PUBLISHED-TTL:P3D
REFRESH-INTERVAL:P3D
CALSCALE:GREGORIAN
BEGIN:VEVENT
DTSTART:20241023T210000Z
DTEND:20241023T230000Z
X-MICROSOFT-CDO-ALLDAYEVENT:FALSE
SUMMARY:Business After Hours: Hampton Inn Kennebunk
DESCRIPTION:Feeling spooky? Grab your broom and fly over to Business After Hours and Halloween Party at the Hampton Inn in Kennebunk.\n\n\n\nJoin us on Wednesday\, October 23rd for a spook-tacular evening. Enjoy haunting stories of the Kennebunks\, catered spooky cocktails and food by Above & Beyond\, Halloween decorations\, costume contest with great prizes\, 50/50 raffle and fun! \n\n\n\nTickets will be available for purchase at the door. Pre-purchased tickets may ease the wait time at the check-in table.\n\n\n\nTo learn more about Hampton Inn Kennebunk\, click here!
X-ALT-DESC;FMTTYPE=text/html:<p><strong><span style="font-size:18px\;"><span style="font-family:arial\;">Feeling spooky? Grab your broom and fly over to&nbsp\;</span><span style="font-family: arial\;">Business After Hours and Halloween Party at the Hampton Inn in Kennebunk.</span></span></strong><br />\n<br />\n<span style="font-family:arial\;"><span style="font-size:16px\;">Join us on Wednesday\, October 23rd for a spook-tacular&nbsp\;evening. Enjoy haunting stories of the Kennebunks\, catered spooky cocktails and food by Above &amp\; Beyond\,&nbsp\;Halloween decorations\, costume contest with great prizes\, 50/50 raffle and fun!&nbsp\;<br />\n<br />\nTickets will be available for purchase at the door. Pre-purchased tickets may ease the wait time at the check-in table.<br />\n<br />\nTo learn more about Hampton Inn Kennebunk\, click <a href="https://hilton.com/en/hotels/pwmkehx-hampton-kennebunk-kennebunkport/?SEO_id=GMB-AMER-HX-PWMKEHX&amp\;y_source=1_NjQ4NjYwNi03MTUtbG9jYXRpb24ud2Vic2l0ZQ%3D%3D">here</a>!</span></span></p>\n
LOCATION:Hampton Inn 6 Independence Drive Kennebunk\, ME
UID:e.1923.25326
SEQUENCE:3
DTSTAMP:20260421T095950Z
URL:https://chamber.gokennebunks.com/events/details/business-after-hours-hampton-inn-kennebunk-25326
END:VEVENT

END:VCALENDAR
