BEGIN:VCALENDAR
VERSION:2.0
PRODID:-//ChamberMaster//Event Calendar 2.0//EN
METHOD:PUBLISH
X-PUBLISHED-TTL:P3D
REFRESH-INTERVAL:P3D
CALSCALE:GREGORIAN
BEGIN:VEVENT
DTSTART:20231018T210000Z
DTEND:20231018T230000Z
X-MICROSOFT-CDO-ALLDAYEVENT:FALSE
SUMMARY:Business After Hours: Hampton Inn Kennebunk
DESCRIPTION:Join us on Wednesday\, October 18th for Business After Hours and Halloween Party at the Hampton Inn in Kennebunk. Catered by Above & Beyond catering\, drinks\, large charcuterie table and warm passed hors d'oeuvres. Halloween decorations\, costume contest\, 50/50 raffle and fun! \n\n\n\nWe've been planning our costumes for weeks and are excited to debut them at After Hours! \n\n\n\n$5 for Chamber Members\n\n$10 for non-Chamber Members
X-ALT-DESC;FMTTYPE=text/html:<p>Join us on Wednesday\, October 18th for Business After Hours and Halloween Party at the Hampton Inn in Kennebunk. Catered by Above &amp\; Beyond catering\, drinks\, large charcuterie table and warm passed&nbsp\;hors d&#39\;oeuvres. Halloween decorations\, costume contest\, 50/50 raffle and fun!&nbsp\;<br />\n<br />\nWe&#39\;ve been planning our costumes for weeks and are excited to debut them at After Hours!&nbsp\;<br />\n<br />\n$5 for Chamber Members<br />\n$10 for non-Chamber Members</p>\n
LOCATION:Hampton Inn 6 Independence Drive Kennebunk\, ME
UID:e.1923.22497
SEQUENCE:3
DTSTAMP:20260422T021228Z
URL:https://chamber.gokennebunks.com/events/details/business-after-hours-hampton-inn-kennebunk-22497
END:VEVENT

END:VCALENDAR
