BEGIN:VCALENDAR
VERSION:2.0
PRODID:-//ChamberMaster//Event Calendar 2.0//EN
METHOD:PUBLISH
X-PUBLISHED-TTL:P3D
REFRESH-INTERVAL:P3D
CALSCALE:GREGORIAN
BEGIN:VEVENT
DTSTART:20250319T210000Z
DTEND:20250319T230000Z
X-MICROSOFT-CDO-ALLDAYEVENT:FALSE
SUMMARY:Business After Hours - Habitat for Humanity Restore
DESCRIPTION:Join us for Business After Hours at the Habitat for Humanity Restore in Kennebunk! \n\n\n\nIt's an 80's bash!\n\nHabitat for Humanity is celebrating it's 40th anniversary which takes us back to 1985. Music by WBOB\, Mixologists\, Wine Tasting\, Sandwiches by Hannaford\, Raffle Prizes\, 50/50 Raffle and fun!\n\nWe'll be in our best 80's attire!\n\n\n\nTickets will be available for purchase at the door. Pre-purchased tickets may ease the wait time at the check-in table.
X-ALT-DESC;FMTTYPE=text/html:<span style="font-size:14px\;"><span style="font-family:arial\;"><strong><span style="font-size:16px\;">Join us for Business After Hours at the Habitat for Humanity Restore in Kennebunk!&nbsp\;</span></strong><br />\n<br />\nIt&#39\;s an 80&#39\;s bash!<br />\nHabitat for Humanity is celebrating it&#39\;s 40th anniversary which takes us back to 1985. Music by WBOB\, Mixologists\, Wine Tasting\, Sandwiches by Hannaford\, Raffle Prizes\, 50/50 Raffle and fun!<br />\nWe&#39\;ll be in our best 80&#39\;s attire!<br />\n<br />\n<span style="color: rgb(5\, 5\, 5)\;">Tickets will be available for purchase at the door. Pre-purchased tickets may ease the wait time at the check-in table.</span></span></span>
LOCATION:Habitat for Humanity Restore 123 York Street Kennebunk
UID:e.1923.33239
SEQUENCE:3
DTSTAMP:20260420T213258Z
URL:https://chamber.gokennebunks.com/events/details/business-after-hours-habitat-for-humanity-restore-33239
END:VEVENT

END:VCALENDAR
