BEGIN:VCALENDAR
VERSION:2.0
PRODID:-//ChamberMaster//Event Calendar 2.0//EN
METHOD:PUBLISH
X-PUBLISHED-TTL:P3D
REFRESH-INTERVAL:P3D
CALSCALE:GREGORIAN
BEGIN:VEVENT
DTSTART:20240320T210000Z
DTEND:20240320T230000Z
X-MICROSOFT-CDO-ALLDAYEVENT:FALSE
SUMMARY:Business After Hours - Habitat for Humanity Restore
DESCRIPTION:Join us for our first Business After Hours of 2024 at the Habitat for Humanity Restore in Kennebunk! \n\nCome see the new store!\n\nFood\, drinks\, shopping\, networking and over 30 raffle prizes\n\nFood by: Hannaford\, Texas Grace BBQ\, Meserves Market Pizza and Boulangerie for dessert.\n\nDrinks by: Kitchen Chicks\n\n\n\nTickets will be available for purchase at the door. Pre-purchased tickets may ease the wait time at the check-in table.
X-ALT-DESC;FMTTYPE=text/html:<span style="font-size:14px\;"><span style="font-family:arial\;">Join us for our first Business After Hours of 2024 at the Habitat for Humanity Restore in Kennebunk!&nbsp\;<br />\nCome see the new store!<br />\nFood\, drinks\, shopping\, networking and over 30 raffle prizes<br />\nFood by: Hannaford\, Texas Grace BBQ\, Meserves Market Pizza and Boulangerie for dessert.<br />\nDrinks by: Kitchen Chicks<br />\n<br />\n<span style="color: rgb(5\, 5\, 5)\;">Tickets will be available for purchase at the door. Pre-purchased tickets may ease the wait time at the check-in table.</span></span></span>
LOCATION:Habitat for Humanity Restore 123 York Street Kennebunk
UID:e.1923.23351
SEQUENCE:3
DTSTAMP:20260421T180621Z
URL:https://chamber.gokennebunks.com/events/details/business-after-hours-habitat-for-humanity-restore-23351
END:VEVENT

END:VCALENDAR
