BEGIN:VCALENDAR
VERSION:2.0
PRODID:-//ChamberMaster//Event Calendar 2.0//EN
METHOD:PUBLISH
X-PUBLISHED-TTL:P3D
REFRESH-INTERVAL:P3D
CALSCALE:GREGORIAN
BEGIN:VEVENT
DTSTART:20240612T210000Z
DTEND:20240612T230000Z
X-MICROSOFT-CDO-ALLDAYEVENT:FALSE
SUMMARY:Business After Hours: Brick Store Museum
DESCRIPTION:Join us for a Business After Hours that will go down in history at the Brick Store Museum in Kennebunk! \n\n\n\nThis event will be held on Wednesday\, June 12 from 5-7pm. The address is 117 Main Street\, Kennebunk.\n\n\n\nJoin us for food catered by Above & Beyond\, drinks\, door prizes\, networking and behind the scenes archive tours! \n\nWeather permitting the gardens will be open.\n\n\n\nTickets will be available for purchase at the door. Pre-purchased tickets may ease the wait time at the check-in table. We look forward to seeing you there! \n\n\n\nTo learn more about The Brick Store Museum\, click here!
X-ALT-DESC;FMTTYPE=text/html:<span style="font-size:18px\;"><span style="color:#000000\;"><span style="font-family:arial\;"><strong>Join us for a Business After Hours that will go down in history at the Brick Store Museum in Kennebunk!&nbsp\;</strong><br />\n<br />\n<span style="font-size:16px\;">This event will be held on <strong>Wednesday\, June 12 from 5-7pm</strong>. The address is 117 Main Street\, Kennebunk.<br />\n<br />\nJoin us for food catered by Above &amp\; Beyond\, drinks\, door prizes\, networking and behind the scenes archive tours!&nbsp\;<br />\nWeather permitting the gardens will be open.<br />\n<br />\nTickets will be available for purchase at the door. Pre-purchased tickets may ease the wait time at the check-in table. We look forward to seeing you there!&nbsp\;<br />\n<br />\nTo learn more about The Brick Store Museum\, click <a href="https://brickstoremuseum.org/">here</a>!</span></span></span></span>
LOCATION:The Brick Store Museum 117 Main Street\, Kennebunk
UID:e.1923.24498
SEQUENCE:3
DTSTAMP:20260421T140136Z
URL:https://chamber.gokennebunks.com/events/details/business-after-hours-brick-store-museum-24498
END:VEVENT

END:VCALENDAR
