BEGIN:VCALENDAR
VERSION:2.0
PRODID:-//ChamberMaster//Event Calendar 2.0//EN
METHOD:PUBLISH
X-PUBLISHED-TTL:P3D
REFRESH-INTERVAL:P3D
CALSCALE:GREGORIAN
BEGIN:VEVENT
DTSTART:20240424T210000Z
DTEND:20240424T230000Z
X-MICROSOFT-CDO-ALLDAYEVENT:FALSE
SUMMARY:Business After Hours - Animal Welfare Society
DESCRIPTION:Join us for Business After Hours at the Animal Welfare Society! \n\n\n\nThis event will be held on Wednesday\, April 24 from 5-7pm. The address is 46 Holland Road\, Kennebunk. \n\n\n\nThere will be great conversation\, delicious food\, drinks\, open retail shop and more! We'll also be doing a business card raffle and a 50/50 raffle. \n\n\n\nTickets will be available for purchase at the door. Pre-purchased tickets may ease the wait time at the check-in table.\n\n\n\nTo learn more about Animal Welfare Society\, click here!
X-ALT-DESC;FMTTYPE=text/html:<div class="kvgmc6g5 cxmmr5t8 oygrvhab hcukyx3x c1et5uql" style="overflow-wrap: break-word\; margin: 0px\; font-family: &quot\;Segoe UI Historic&quot\;\, &quot\;Segoe UI&quot\;\, Helvetica\, Arial\, sans-serif\; color: rgb(5\, 5\, 5)\; font-size: 15px\;"><span style="font-family:arial\;"><span style="font-size:20px\;"><span style="font-size:22px\;"><strong>Join us for Business After Hours at the Animal Welfare Society!&nbsp\;</strong></span><br />\n<br />\nThis event will be held on <strong>Wednesday\, April 24</strong> from 5-7pm. The address is 46 Holland Road\, Kennebunk.&nbsp\;<br />\n<br />\nThere will be great conversation\, delicious food\, drinks\, open retail shop and more! We&#39\;ll also be doing a business card raffle and a 50/50 raffle.&nbsp\;<br />\n<br />\nTickets will be available for purchase at the door. Pre-purchased tickets may ease the wait time at the check-in table.<br />\n<br />\nTo learn more about Animal Welfare Society\, click <a href="https://animalwelfaresociety.org/">here</a>!</span></span><br />\n<br />\n&nbsp\;</div>\n
LOCATION:Animal Welfare Society 46 Holland Road\, Kennebunk
UID:e.1923.23352
SEQUENCE:3
DTSTAMP:20260421T005559Z
URL:https://chamber.gokennebunks.com/events/details/business-after-hours-animal-welfare-society-23352
END:VEVENT

END:VCALENDAR
