BEGIN:VCALENDAR
VERSION:2.0
PRODID:-//ChamberMaster//Event Calendar 2.0//EN
METHOD:PUBLISH
X-PUBLISHED-TTL:P3D
REFRESH-INTERVAL:P3D
CALSCALE:GREGORIAN
BEGIN:VEVENT
DTSTART:20241113T220000Z
DTEND:20241114T000000Z
X-MICROSOFT-CDO-ALLDAYEVENT:FALSE
SUMMARY:Business After Hours: Alisson's Restaurant
DESCRIPTION:Join us for our a wonderful evening at a staple in the Kennebunkport community for over 50 years.\n\n\n\nWe are excited to partner with Alisson's Restaurant to host Business After Hours on Wednesday\, November 13 from 5-7 PM. You'll get to enjoy great conversation\, delicious food\, refreshing drinks and door prizes\, too! \n\n\n\nTickets will be available for purchase at the door. Pre-purchased tickets may ease the wait time at the check-in table.\n\n\n\nTo learn more about Alisson's Restaurant\, click here.
X-ALT-DESC;FMTTYPE=text/html:<br />\n<span style="color:#000000\;"><strong><span style="font-size:18px\;">Join us for our a wonderful evening at a staple in the Kennebunkport community for over 50 years.</span></strong><br />\n<br />\n<span style="font-size:16px\;">We are excited to partner with Alisson&#39\;s Restaurant to host Business After Hours on Wednesday\, November 13 from 5-7 PM.&nbsp\;<font face="Arial\, Helvetica\, sans-serif">Y</font></span><span style="font-size: 16px\;">ou&#39\;ll get to enjoy great conversation\, delicious food\, refreshing drinks and door prizes\, too!&nbsp\;</span></span><br />\n<br />\n<span style="font-size:16px\;"><span style="color:#000000\;">Tickets will be available for purchase at the door. Pre-purchased tickets may ease the wait time at the check-in table.<br />\n<br />\nTo learn more about Alisson&#39\;s Restaurant\, click</span> <a href="https://www.alissons.com/">here</a><span style="color:#000000\;">.</span></span>
LOCATION:11 Dock Square\, Kennebunkport
UID:e.1923.29689
SEQUENCE:3
DTSTAMP:20260421T073312Z
URL:https://chamber.gokennebunks.com/events/details/business-after-hours-alisson-s-restaurant-29689
END:VEVENT

END:VCALENDAR
