BEGIN:VCALENDAR
VERSION:2.0
PRODID:-//ChamberMaster//Event Calendar 2.0//EN
METHOD:PUBLISH
X-PUBLISHED-TTL:P3D
REFRESH-INTERVAL:P3D
CALSCALE:GREGORIAN
BEGIN:VEVENT
DTSTART:20241207T000000Z
DTEND:20241207T045500Z
X-MICROSOFT-CDO-ALLDAYEVENT:FALSE
SUMMARY:Christmas Prelude Buddy's Bar at The Rabbit Hole
DESCRIPTION:SANTA'S COMING!! Welcome to the North Pole of Maine! We're thrilled to invite you to Buddy's Bar at the Rabbit Hole\, where we're celebrating everyone's favorite Christmas movie\, Elf! For the entire month of December\, we're transforming our bar into a whimsical festive wonderland inspired by Buddy the Elf's adventures. Step into a magical world adorned by paper garland and snowflakes\, twinkling lights\, and candy-cane-striped decorations that Buddy himself helped us decorate.\n\nIndulge in the holiday spirit with a special menu of Elf-inspired cocktails\, expertly crafted by our mixologists and inspired by Buddy's famous "Four Main Elf Food Groups"   candy\, candy canes\, candy corn\, and syrup. Join us throughout December for a month-long celebration of Elf that will fill your heart with holiday cheer!\n\n\n\nBuddy's Bar is 21+.\n\nChristmas Prelude Hours:\n\n\n	Friday\, December 6th   7pm-midnight\, DJ begins at 7pm\n	Saturday\, December 7th   7pm-midnight\, DJ begins at 7pm\n	Friday\, December 13th   7pm-midnight\, DJ begins at 7pm\n	Saturday\, December 14th   7pm-midnight\, DJ begins at 7pm
X-ALT-DESC;FMTTYPE=text/html:<p>SANTA&rsquo\;S COMING!! Welcome to the North Pole of Maine! We&#39\;re thrilled to invite you to Buddy&rsquo\;s Bar at the Rabbit Hole\, where we&#39\;re celebrating everyone&#39\;s favorite Christmas movie\, Elf! For the entire month of December\, we&#39\;re transforming our bar into a whimsical festive wonderland inspired by Buddy the Elf&#39\;s adventures. Step into a magical world adorned by paper garland and snowflakes\, twinkling lights\, and candy-cane-striped decorations that Buddy himself helped us decorate.</p>\n\n<p>Indulge in the holiday spirit with a special menu of Elf-inspired cocktails\, expertly crafted by our mixologists and inspired by Buddy&#39\;s famous &quot\;Four Main Elf Food Groups&quot\; &ndash\; candy\, candy canes\, candy corn\, and syrup. Join us throughout December for a month-long celebration of Elf that will fill your heart with holiday cheer!<br />\n<br />\nBuddy&#39\;s Bar is 21+.</p>\n\n<p>Christmas Prelude Hours:</p>\n\n<ul>\n	<li>Friday\, December 6th &ndash\; 7pm-midnight\, DJ begins at 7pm</li>\n	<li>Saturday\, December 7th &ndash\; 7pm-midnight\, DJ begins at 7pm</li>\n	<li>Friday\, December 13th &ndash\; 7pm-midnight\, DJ begins at 7pm</li>\n	<li>Saturday\, December 14th &ndash\; 7pm-midnight\, DJ begins at 7pm</li>\n</ul>\n
LOCATION:The Rabbit Hole (downstairs at Via Sophia by the Sea) 27 Western Avenue Kennebunk\, Maine 04043
UID:e.1923.29776
SEQUENCE:3
DTSTAMP:20260421T032534Z
URL:https://chamber.gokennebunks.com/events/details/buddy-s-bar-at-the-rabbit-hole-29776
END:VEVENT

END:VCALENDAR
