BEGIN:VCALENDAR
VERSION:2.0
PRODID:-//ChamberMaster//Event Calendar 2.0//EN
METHOD:PUBLISH
X-PUBLISHED-TTL:P3D
REFRESH-INTERVAL:P3D
CALSCALE:GREGORIAN
BEGIN:VEVENT
DTSTART:20180203T180000Z
DTEND:20180203T200000Z
X-MICROSOFT-CDO-ALLDAYEVENT:FALSE
SUMMARY:Bubbles & Truffles at the Grand Hotel
DESCRIPTION:As the Executive Chef at Ocean at the Cape Arundel Inn & Resort\, Chef Pierre Gignac will teach you the technique and preparation of sumptuous chocolate truffles\, using the finest of French and Belgian chocolates enhanced with fine liqueurs\, fruits and spices.  The chocolate truffles tasting will be paired with a flight of delicious sparkling wines and cordials.\n\n$40 per person.\n\n\n\nPurchase Tickets for Bubbles & Truffles
X-ALT-DESC;FMTTYPE=text/html:<p>As the Executive Chef at&nbsp\;<a href="http://capearundelinn.com/dining/" rel="noopener" style="box-sizing: border-box\; color: rgb(0\, 0\, 0)\;" target="_blank">Ocean at the Cape Arundel Inn &amp\; Resort</a>\, Chef Pierre Gignac will teach you the&nbsp\;technique and preparation of sumptuous chocolate truffles\, using the finest of&nbsp\;French and Belgian chocolates enhanced with fine liqueurs\, fruits and spices. &nbsp\;The chocolate truffles tasting will be paired with a flight of delicious sparkling wines&nbsp\;and cordials.</p>\n\n<p>$40 per person.<br />\n<br />\n<a href="https://www.eventbrite.com/e/bubbles-truffles-with-chef-pierre-gignac-tickets-40041772018"><span style="color:#FF0000">Purchase Tickets for Bubbles &amp\; Truffles</span></a></p>\n
LOCATION:Grand Hotel 1 Chase Hill Road Kennebunk\, Maine 04043
UID:e.1923.6988
SEQUENCE:3
DTSTAMP:20260425T193504Z
URL:https://chamber.gokennebunks.com/events/details/bubbles-truffles-at-the-grand-hotel-6988
END:VEVENT

END:VCALENDAR
