BEGIN:VCALENDAR
VERSION:2.0
PRODID:-//ChamberMaster//Event Calendar 2.0//EN
METHOD:PUBLISH
X-PUBLISHED-TTL:P3D
REFRESH-INTERVAL:P3D
CALSCALE:GREGORIAN
BEGIN:VEVENT
DTSTART:20250507T210000Z
DTEND:20250507T230000Z
X-MICROSOFT-CDO-ALLDAYEVENT:FALSE
SUMMARY:BUBBLES\, BOOKMARKS & BOOK CELLAR - Mom's Night Out!
DESCRIPTION:Wednesday\, May 7 at 5:30 PM. Bubbles\, Bookmarks & Book Cellar. Join us for a fun Mom's Night Out with resident artist Rayanne Coombs. Learn to decoupage your own custom wood bookmark with a tassel. The art of decoupage is decorating an object by gluing colored paper cutouts onto it in combination with special paint effects. For this program\, you will get to pick a wood bookmark with a tassel\, pick the designs\, and complete the project from start to finish. All adult skill levels are welcome\, all supplies are provided\, and registration is required. The Book Cellar will be open for your shopping enjoyment. Light refreshments. The Louis T. Graves Memorial Public Library is located at 18 Maine Street\, Kennebunkport. For further information\, please call 967-2778 or visit our website at www.graveslibrary.org.
X-ALT-DESC;FMTTYPE=text/html:<span style="font-family:arial\,sans-serif"><span style="font-size:10.5pt">Wednesday\, May 7 at 5:30 PM. <strong>Bubbles\, Bookmarks &amp\; Book Cellar</strong>. Join us for a fun Mom&rsquo\;s Night Out with resident artist Rayanne Coombs. Learn to decoupage your own custom wood bookmark with a tassel. The art of decoupage is decorating an object by gluing colored paper cutouts onto it in combination with special paint effects. For this program\, you will get to pick a wood bookmark with a tassel\, pick the designs\, and complete the project from start to finish. All adult skill levels are welcome\, all supplies are provided\, and registration is required. The Book Cellar will be open for your shopping enjoyment. Light refreshments. The Louis T. Graves Memorial Public Library is located at 18 Maine Street\, Kennebunkport. For further information\, please call 967-2778 or visit our website at www.graveslibrary.org.</span></span>
LOCATION:Louis T. Graves Memorial Public Library
UID:e.1923.33992
SEQUENCE:3
DTSTAMP:20260421T045238Z
URL:https://chamber.gokennebunks.com/events/details/bubbles-bookmarks-book-cellar-mom-s-night-out-33992
END:VEVENT

END:VCALENDAR
