BEGIN:VCALENDAR
VERSION:2.0
PRODID:-//ChamberMaster//Event Calendar 2.0//EN
METHOD:PUBLISH
X-PUBLISHED-TTL:P3D
REFRESH-INTERVAL:P3D
CALSCALE:GREGORIAN
BEGIN:VEVENT
DTSTART:20180221T210000Z
DTEND:20180222T020000Z
X-MICROSOFT-CDO-ALLDAYEVENT:FALSE
SUMMARY:Brunch For Dinner
DESCRIPTION:With School Vacation coming up that means more time with your family and you're kids! What better way to have fun with your family than Brunch for Dinner! To add some extra fun to it if you wear your PJ's you get 10% off!\nWe can't wait to see you there all dressed up and having a great time with the whole family!
X-ALT-DESC;FMTTYPE=text/html:With School Vacation coming up that means more time with your family and you're kids! What better way to have fun with your family than Brunch for Dinner! To add some extra fun to it if you wear your PJ's you get 10% off!\nWe can't wait to see you there all dressed up and having a great time with the whole family! 
LOCATION:Federal Jacks
UID:e.1923.7155
SEQUENCE:3
DTSTAMP:20260425T193212Z
URL:https://chamber.gokennebunks.com/events/details/brunch-for-dinner-02-21-2018-7155
END:VEVENT

END:VCALENDAR
