BEGIN:VCALENDAR
VERSION:2.0
PRODID:-//ChamberMaster//Event Calendar 2.0//EN
METHOD:PUBLISH
X-PUBLISHED-TTL:P3D
REFRESH-INTERVAL:P3D
CALSCALE:GREGORIAN
BEGIN:VEVENT
DTSTART:20170917T190000Z
DTEND:20170917T210000Z
X-MICROSOFT-CDO-ALLDAYEVENT:FALSE
SUMMARY:Bruce Molsky/Concerts in West K
DESCRIPTION:Bruce Molsky\, one of today's foremost players of southern American old-time music\, will be featured in the first show of the fall season of the "Concerts in West K!" series in West Kennebunk sponsored by the West Kennebunk United Methodist Church (WKUMC).
X-ALT-DESC;FMTTYPE=text/html:Bruce Molsky\, one of today&rsquo\;s foremost players of southern American old-time music\, will be featured in the first show of the fall season of the &ldquo\;Concerts in West K!&rdquo\; series in West Kennebunk sponsored by the West Kennebunk United Methodist Church (WKUMC).
LOCATION:West Kennebunk United Methodist Church\, 160 Alfred Road\, West Kennebunk
UID:e.1923.6935
SEQUENCE:3
DTSTAMP:20260426T024414Z
URL:https://chamber.gokennebunks.com/events/details/bruce-molsky-concerts-in-west-k-6935
END:VEVENT

END:VCALENDAR
