BEGIN:VCALENDAR
VERSION:2.0
PRODID:-//ChamberMaster//Event Calendar 2.0//EN
METHOD:PUBLISH
X-PUBLISHED-TTL:P3D
REFRESH-INTERVAL:P3D
CALSCALE:GREGORIAN
BEGIN:VEVENT
DTSTART:20180608T210000Z
DTEND:20180609T000000Z
X-MICROSOFT-CDO-ALLDAYEVENT:FALSE
SUMMARY:Brick Store Museum at Night
DESCRIPTION:Explore the museum at night! The museum will be opened late\, from 5-8 PM\, offering FREE admission to the galleries! Come and enjoy a Friday night of art\, history\, and culture. The Museum's recently digitized silent home movies will be shown during the event.\n\nHit a downtown restaurant for dinner and make it a great night out!\n\nThe Brick Store Museum is located at 117 Main Street in Kennebunk\, Maine. For more information please call 207-985-4802 or visit our website at http://www.brickstoremuseum.org/.
X-ALT-DESC;FMTTYPE=text/html:<p>Explore the museum at night! The museum will be opened late\, from 5-8 PM\, offering FREE admission to the galleries! Come and enjoy a Friday night of art\, history\, and culture. The Museum&#39\;s recently digitized silent home movies will be shown during the event.</p>\n\n<p>Hit a downtown restaurant for dinner and make it a great night out!</p>\n\n<p>The Brick Store Museum is located at 117 Main Street in Kennebunk\, Maine. For more information please call 207-985-4802 or visit our website at http://www.brickstoremuseum.org/.</p>\n
LOCATION:Brick Store Musem 117 Main Street Kenebunk
UID:e.1923.9878
SEQUENCE:3
DTSTAMP:20260425T143303Z
URL:https://chamber.gokennebunks.com/events/details/brick-store-museum-at-night-9878
END:VEVENT

END:VCALENDAR
