BEGIN:VCALENDAR
VERSION:2.0
PRODID:-//ChamberMaster//Event Calendar 2.0//EN
METHOD:PUBLISH
X-PUBLISHED-TTL:P3D
REFRESH-INTERVAL:P3D
CALSCALE:GREGORIAN
BEGIN:VEVENT
DTSTART:20180914T210000Z
DTEND:20180915T000000Z
X-MICROSOFT-CDO-ALLDAYEVENT:FALSE
SUMMARY:Brick Store Museum at Night
DESCRIPTION:Explore the Brick Store Museum at night! The Museum will be open late\, from 5pm   8pm\, offering FREE admission to the galleries! Come and enjoy a Friday night of art\, history and culture. The Museum's recently digitized silent home movies will also be shown during the event.\n\nThis month\, join us to open the latest exhibit in the Bauman Family Gallery\, Minzy & MacDonald: A Show in Black & White\, a mashup of two Maine artists\, printmaker Scott Minzy and photographer Jesse Macdonald. Make sure to see this stunning show before it closes on October 20.\n\nBSM at Night occurs on the Second Friday of every month between June and September\, plus a special opening in December.
X-ALT-DESC;FMTTYPE=text/html:<p>Explore the Brick Store&nbsp\;Museum at night! The Museum will be open late\, from 5pm &ndash\; 8pm\, offering FREE admission to the galleries! Come and enjoy a Friday night of art\, history and culture. The Museum&rsquo\;s recently digitized silent home movies will also be shown during the event.</p>\n\n<p>This month\, join us to open the latest exhibit in the Bauman Family Gallery\, Minzy &amp\; MacDonald: A Show in Black &amp\; White\, a mashup of two Maine artists\, printmaker Scott Minzy and photographer Jesse Macdonald. Make sure to see this stunning show before it closes on October 20.</p>\n\n<p><strong>BSM&nbsp\;at Night</strong>&nbsp\;occurs on the Second Friday of every month between June and September\, plus a special opening in December.</p>\n
LOCATION:Brick Store Museum 117 Main Street Kennebunk\, Maine 04043
UID:e.1923.11468
SEQUENCE:3
DTSTAMP:20260425T115948Z
URL:https://chamber.gokennebunks.com/events/details/brick-store-museum-at-night-09-14-2018-11468
END:VEVENT

END:VCALENDAR
