BEGIN:VCALENDAR
VERSION:2.0
PRODID:-//ChamberMaster//Event Calendar 2.0//EN
METHOD:PUBLISH
X-PUBLISHED-TTL:P3D
REFRESH-INTERVAL:P3D
CALSCALE:GREGORIAN
BEGIN:VEVENT
DTSTART:20170813T000000Z
DTEND:20170813T020000Z
X-MICROSOFT-CDO-ALLDAYEVENT:FALSE
SUMMARY:Brendan James
DESCRIPTION:For those who have followed Brendan James from his 2008 major label debut to his current ranking among today's top troubadours\, the journey has been a pretty remarkable one. His songs have landed spots on over 15 major television shows and feature films and he's achieved the #1 Singer Songwriter spot on iTunes\, multiple times. He has formed relationships with music legends Carly Simon and Cat Stevens\, enjoyed on-stage experiences with the likes of John Legend\, John Mayer\, and Paula Cole\, and recently been asked to give a TedTalk on gun violence\, love songs\, and simpler societies. Now\, after two years of touring in support of his 2012 release\, Simplify\, James embarks on an altogether new sound. His new EP\, The Howl\, released in the summer of 2015\, is bigger\, badder\, and dancier than anything he's attempted to date.
X-ALT-DESC;FMTTYPE=text/html:For those who have followed Brendan James from his 2008 major label debut to his current ranking among today&rsquo\;s top troubadours\, the journey has been a pretty remarkable one. His songs have landed spots on over 15 major television shows and feature films and he&rsquo\;s achieved the #1 Singer Songwriter spot on iTunes\, multiple times. He has formed relationships with music legends Carly Simon and Cat Stevens\, enjoyed on-stage experiences with the likes of John Legend\, John Mayer\, and Paula Cole\, and recently been asked to give a TedTalk on gun violence\, love songs\, and simpler societies. Now\, after two years of touring in support of his 2012 release\, Simplify\, James embarks on an altogether new sound. His new EP\, The Howl\, released in the summer of 2015\, is bigger\, badder\, and dancier than anything he&rsquo\;s attempted to date.
LOCATION:Vinegar Hill Music Theatre
UID:e.1923.5913
SEQUENCE:3
DTSTAMP:20260426T035601Z
URL:https://chamber.gokennebunks.com/events/details/brendan-james-5913
END:VEVENT

END:VCALENDAR
