BEGIN:VCALENDAR
VERSION:2.0
PRODID:-//ChamberMaster//Event Calendar 2.0//EN
METHOD:PUBLISH
X-PUBLISHED-TTL:P3D
REFRESH-INTERVAL:P3D
CALSCALE:GREGORIAN
BEGIN:VEVENT
DTSTART:20231210T130000Z
DTEND:20231210T170000Z
X-MICROSOFT-CDO-ALLDAYEVENT:FALSE
SUMMARY:Breakfast with Santa & Mrs.Claus at The Nonantum Resort
DESCRIPTION:Breakfast with Santa & Mrs.Claus at The Nonantum Resort \n\nat The Nonantum Resort\, 95 Ocean Ave\, Kennebunkport\, Maine\n\nJoin us for a magical morning having breakfast and visiting with Santa and Mrs. Claus! Guests will have the opportunity to share their Christmas wishes with the big man himself\, and even receive a complimentary commemorative photo to capture the moment. Live entertainment will be provided by Cover Stories from 9am-12pm. The fun is boundless\, the food is delightful\, and the memories are sure to last a lifetime!\n\n\n\nCost: $35/adult\, $18/children 12 and under\n\n\n\nReservations are required and can be made via OpenTable
X-ALT-DESC;FMTTYPE=text/html:<h2><strong>Breakfast with Santa &amp\; Mrs.Claus at The Nonantum Resort&nbsp\;</strong></h2>\n\n<p>at The Nonantum Resort\, 95 Ocean Ave\, Kennebunkport\, Maine</p>\n\n<p>Join us for a magical morning having breakfast and visiting with Santa and Mrs. Claus! Guests will have the opportunity to share their Christmas wishes with the big man himself\, and even receive a complimentary commemorative photo to capture the moment. Live entertainment will be provided by Cover Stories from 9am-12pm. The fun is boundless\, the food is delightful\, and the memories are sure to last a lifetime!<br />\n<br />\nCost: $35/adult\, $18/children 12 and under<br />\n<br />\nReservations are required and can be made via OpenTable</p>\n
LOCATION:The Nonantum Resort\, 95 Ocean Ave\, Kennebunkport\, Maine
UID:e.1923.23135
SEQUENCE:3
DTSTAMP:20260421T221444Z
URL:https://chamber.gokennebunks.com/events/details/breakfast-with-santa-mrs-claus-at-the-nonantum-resort-23135
END:VEVENT

END:VCALENDAR
