BEGIN:VCALENDAR
VERSION:2.0
PRODID:-//ChamberMaster//Event Calendar 2.0//EN
METHOD:PUBLISH
X-PUBLISHED-TTL:P3D
REFRESH-INTERVAL:P3D
CALSCALE:GREGORIAN
BEGIN:VEVENT
DTSTART:20231203T130000Z
DTEND:20231203T160000Z
X-MICROSOFT-CDO-ALLDAYEVENT:FALSE
SUMMARY:Breakfast with Mrs.Claus & the Elves at The Nonantum Resort
DESCRIPTION:Breakfast with Mrs.Claus & the Elves at The Nonantum Resort \n\nat The Nonantum Resort\, 95 Ocean Ave\, Kennebunkport\, Maine\n\nJoin us for a magical morning having breakfast and visiting with Mrs. Claus and the elves! Guests will have the opportunity to deliver their Christmas list to the North Pole\, share their Christmas wishes with Mrs. Claus herself\, and even receive a complimentary photo to capture the moment. Live music provided by Suzie Snowflake. The fun is boundless\, the food is delightful\, and the memories are sure to last a lifetime!\n\n\n\nCost: $30/adult\, $18/children 12 and under\n\n\n\nReservations are required\; please call the resort at 207-967-4050
X-ALT-DESC;FMTTYPE=text/html:<h2><strong>Breakfast with Mrs.Claus &amp\; the Elves at The Nonantum Resort&nbsp\;</strong></h2>\n\n<p>at The Nonantum Resort\, 95 Ocean Ave\, Kennebunkport\, Maine</p>\n\n<p>Join us for a magical morning having breakfast and visiting with Mrs. Claus and the elves! Guests will have the opportunity to deliver their Christmas list to the North Pole\, share their Christmas wishes with Mrs. Claus herself\, and even receive a complimentary photo to capture the moment. Live music provided by Suzie Snowflake. The fun is boundless\, the food is delightful\, and the memories are sure to last a lifetime!<br />\n<br />\nCost: $30/adult\, $18/children 12 and under<br />\n<br />\nReservations are required\; please call the resort at 207-967-4050</p>\n
LOCATION:The Nonantum Resort\, 95 Ocean Ave\, Kennebunkport\, Maine
UID:e.1923.23134
SEQUENCE:3
DTSTAMP:20260421T221527Z
URL:https://chamber.gokennebunks.com/events/details/breakfast-with-mrs-claus-the-elves-at-the-nonantum-resort-23134
END:VEVENT

END:VCALENDAR
