BEGIN:VCALENDAR
VERSION:2.0
PRODID:-//ChamberMaster//Event Calendar 2.0//EN
METHOD:PUBLISH
X-PUBLISHED-TTL:P3D
REFRESH-INTERVAL:P3D
CALSCALE:GREGORIAN
BEGIN:VEVENT
DTSTART:20171203T130000Z
DTEND:20171203T160000Z
X-MICROSOFT-CDO-ALLDAYEVENT:FALSE
SUMMARY:Breakfast with Mrs. Claus and The Elves
DESCRIPTION:A special holiday breakfast buffet hosted by our visitors from the North Pole. Entertainment and souvenir photo provided. $20pp\, children $10pp. Reservations appreciated for parties of 6 or more\, 207-967-4050
X-ALT-DESC;FMTTYPE=text/html:A special holiday breakfast buffet hosted by our visitors from the North Pole. Entertainment and souvenir photo provided. $20pp\, children $10pp. Reservations appreciated for parties of 6 or more\, 207-967-4050
LOCATION:The Nonantum Resort
UID:e.1923.6971
SEQUENCE:3
DTSTAMP:20260425T234331Z
URL:https://chamber.gokennebunks.com/events/details/breakfast-with-mrs-claus-and-the-elves-6971
END:VEVENT

END:VCALENDAR
