BEGIN:VCALENDAR
VERSION:2.0
PRODID:-//ChamberMaster//Event Calendar 2.0//EN
METHOD:PUBLISH
X-PUBLISHED-TTL:P3D
REFRESH-INTERVAL:P3D
CALSCALE:GREGORIAN
BEGIN:VEVENT
DTSTART:20180826T000000Z
DTEND:20180826T023000Z
X-MICROSOFT-CDO-ALLDAYEVENT:FALSE
SUMMARY:Bravo Amici
DESCRIPTION:BRAVO Amici have wowed audiences all over the world\, from London to New York\, Miami to Montreal\, St. Moritz to Sardinia\, Hawaii to New Zealand. Combining the essential elements of pop\, Broadway\, the West End and opera\, this group of endlessly talented Tenors and Divas melt hearts and blow minds in every theater they perform
X-ALT-DESC;FMTTYPE=text/html:BRAVO Amici have wowed audiences all over the world\, from London to New York\, Miami to Montreal\, St. Moritz to Sardinia\, Hawaii to New Zealand. Combining the essential elements of pop\, Broadway\, the West End and opera\, this group of endlessly talented Tenors and Divas melt hearts and blow minds in every theater they perform
LOCATION:Vinegar Hill Music Theatre 53 Old Post Rd. Arundel\, ME 04046
UID:e.1923.9795
SEQUENCE:3
DTSTAMP:20260425T115521Z
URL:https://chamber.gokennebunks.com/events/details/bravo-amici-9795
END:VEVENT

END:VCALENDAR
