BEGIN:VCALENDAR
VERSION:2.0
PRODID:-//ChamberMaster//Event Calendar 2.0//EN
METHOD:PUBLISH
X-PUBLISHED-TTL:P3D
REFRESH-INTERVAL:P3D
CALSCALE:GREGORIAN
BEGIN:VEVENT
DTSTART:20231117T220000Z
DTEND:20231118T000000Z
X-MICROSOFT-CDO-ALLDAYEVENT:FALSE
SUMMARY:Bowlicious Food Truck Chill
DESCRIPTION:Come enjoy food and drinks in our garden patio! Bowlicious Food Truck will be set up through the night's 12/OC show... ?? Because this is a SOLD OUT show\, the public will be invited to chill from 5pm - 7pm\, at which point we'll close the event off to just people who already have tickets to the night's show. Dogs and all ages are welcome!
X-ALT-DESC;FMTTYPE=text/html:Come enjoy food and drinks in our garden patio! Bowlicious Food Truck will be set up through the night&#39\;s 12/OC show... ?? Because this is a SOLD OUT show\, the public will be invited to chill from 5pm - 7pm\, at which point we&#39\;ll close the event off to just people who already have tickets to the night&#39\;s show. Dogs and all ages are welcome!
LOCATION:Vinegar Hill Music Theatre 53 Old Post Rd Arundel\, ME 04046
UID:e.1923.23092
SEQUENCE:3
DTSTAMP:20260421T233010Z
URL:https://chamber.gokennebunks.com/events/details/bowlicious-food-truck-chill-23092
END:VEVENT

END:VCALENDAR
